Felt | Verdi |
AlreadyApplied | True |
Aperture | 5.6 |
ApertureValue | 5.6 |
Artist | Alexander Evensen |
AutoLateralCA | 1 |
BitsPerSample | 8 |
Blacks2012 | +65 |
BlueHue | 0 |
BlueSaturation | 0 |
By-line | Alexander Evensen |
CameraProfile | Adobe Standard |
Caption-Abstract | Pictures of my dear Laurel which I have to get rid of due to getting backed into, and not getting enough back on the insurance to fix it. It has become a close friend during the 14 months I've owned it, and we've gone through alot together. It will be missed. May I be so lucky that I one day have another Laurel C32. |
CircleOfConfusion | 0.020 mm |
City | Alta |
Clarity2012 | +23 |
ColorComponents | 3 |
ColorNoiseReduction | 0 |
ColorSpace | sRGB |
ColorTemperature | 3000 |
Contrast | High |
Contrast2012 | 0 |
ConvertToGrayscale | False |
Copyright | Alexander Evensen |
CopyrightNotice | Alexander Evensen |
Country | Norway |
Country-PrimaryLocationName | Norway |
CreateDate | 2013:04:20 01:31:02 |
Creator | Alexander Evensen |
CreatorAddress | Altaveien 226 |
CreatorCity | Alta |
CreatorCountry | Norway |
CreatorPostalCode | 9515 |
CreatorRegion | Finnmark |
CreatorTool | K-5 Ver 1.14 |
CreatorWorkEmail | alexander.evensen@gmail.com |
CreatorWorkTelephone | (+47)47231808 |
CreatorWorkURL | http://www.arcticexposure.no/ |
CropAngle | 0 |
CropBottom | 1 |
CropConstrainToWarp | 1 |
CropLeft | 0.030389 |
CropRight | 0.967422 |
CropTop | 0.062967 |
CustomRendered | Normal |
DateCreated (1) | 2013:04:20 |
DateCreated | 2013:04:20 01:31:02 |
DateTimeOriginal | 2013:04:20 01:31:02 |
DefringeGreenAmount | 0 |
DefringeGreenHueHi | 60 |
DefringeGreenHueLo | 40 |
DefringePurpleAmount | 0 |
DefringePurpleHueHi | 70 |
DefringePurpleHueLo | 30 |
Description | Pictures of my dear Laurel which I have to get rid of due to getting backed into, and not getting enough back on the insurance to fix it. It has become a close friend during the 14 months I've owned it, and we've gone through alot together. It will be missed. May I be so lucky that I one day have another Laurel C32. |
ExifImageHeight | 848 |
ExifImageWidth | 1280 |
Exposure2012 | 0.00 |
ExposureCompensation | 0 |
ExposureMode | Manual |
ExposureProgram | Manual |
ExposureTime | 4 |
Flash | Off, Did not fire |
FNumber | 5.6 |
FocalLength | 30.0 mm |
FocalLength35efl | 30.0 mm (35 mm equivalent: 45.0 mm) |
FocalLengthIn35mmFormat | 45 mm |
Format | image/jpeg |
FOV | 43.6 deg |
GradientBasedCorrActive | true |
GradientBasedCorrAmount | 1.000000 |
GradientBasedCorrBrightness | 0.000000 |
GradientBasedCorrClarity | 0.000000 |
GradientBasedCorrClarity2012 | 0.180000 |
GradientBasedCorrContrast | 0.000000 |
GradientBasedCorrContrast2012 | 0.000000 |
GradientBasedCorrDefringe | 0.000000 |
GradientBasedCorrExposure | 0.000000 |
GradientBasedCorrExposure2012 | 0.000000 |
GradientBasedCorrHighlights2012 | -0.830000 |
GradientBasedCorrHue | 0.000000 |
GradientBasedCorrLuminanceNoise | 0.000000 |
GradientBasedCorrMaskFullX | 0.552650 |
GradientBasedCorrMaskFullY | 0.524013 |
GradientBasedCorrMaskValue | 1.000000 |
GradientBasedCorrMaskWhat | Mask/Gradient |
GradientBasedCorrMaskZeroX | 0.509541 |
GradientBasedCorrMaskZeroY | 0.378869 |
GradientBasedCorrMoire | 0.000000 |
GradientBasedCorrSaturation | 0.000000 |
GradientBasedCorrShadows2012 | -0.860000 |
GradientBasedCorrSharpness | 0.000000 |
GradientBasedCorrTemperature | 0.000000 |
GradientBasedCorrTint | 0.000000 |
GradientBasedCorrWhat | Correction |
GrainAmount | 0 |
GreenHue | 0 |
GreenSaturation | 0 |
HasCrop | True |
HasSettings | True |
Highlights2012 | -61 |
HueAdjustmentAqua | 0 |
HueAdjustmentBlue | 0 |
HueAdjustmentGreen | 0 |
HueAdjustmentMagenta | 0 |
HueAdjustmentOrange | 0 |
HueAdjustmentPurple | 0 |
HueAdjustmentRed | 0 |
HueAdjustmentYellow | 0 |
HyperfocalDistance | 8.02 m |
ImageDescription | Pictures of my dear Laurel which I have to get rid of due to getting backed into, and not getting enough back on the insurance to fix it. It has become a close friend during the 14 months I've owned it, and we've gone through alot together. It will be missed. May I be so lucky that I one day have another Laurel C32. |
ImageHeight | 848 |
ImageSize | 1280x848 |
ImageWidth | 1280 |
ISO | 80 |
Keywords | Nissan, Laurel, C32, facelift, 1987, 2.0 LX, rain, spring, night |
Lens | Sigma Lens |
LensID (1) | 3 0 |
LensID | Sigma |
LensManualDistortionAmount | 0 |
LensModel | Sigma Lens |
LensProfileChromaticAberrationScale | 100 |
LensProfileDistortionScale | 100 |
LensProfileEnable | 1 |
LensProfileFilename | PENTAX (Sigma_30mm_F1.4_EX_DC_HSM ) - RAW.lcp |
LensProfileName | Adobe (SIGMA 30mm F1.4 EX DC / HSM, PENTAX) |
LensProfileSetup | Custom |
LensProfileVignettingScale | 51 |
LightValue | 3.3 |
LuminanceAdjustmentAqua | 0 |
LuminanceAdjustmentBlue | 0 |
LuminanceAdjustmentGreen | 0 |
LuminanceAdjustmentMagenta | 0 |
LuminanceAdjustmentOrange | 0 |
LuminanceAdjustmentPurple | 0 |
LuminanceAdjustmentRed | 0 |
LuminanceAdjustmentYellow | 0 |
LuminanceSmoothing | 0 |
Make | PENTAX |
Megapixels | 1.1 |
MeteringMode | Spot |
Model | PENTAX K-5 |
ModifyDate (1) | 2013:04:20 04:56:57+02:00 |
ModifyDate | 2013:04:20 04:56:57 |
ObjectName | Nissan Laurel C32 Facelift 1987 |
Orientation | Horizontal (normal) |
ParametricDarks | 0 |
ParametricHighlights | 0 |
ParametricHighlightSplit | 75 |
ParametricLights | 0 |
ParametricMidtoneSplit | 50 |
ParametricShadows | 0 |
ParametricShadowSplit | 25 |
PerspectiveHorizontal | 0 |
PerspectiveRotate | 0.0 |
PerspectiveScale | 100 |
PerspectiveVertical | 0 |
PhotographicSensitivity | 80 |
PostCropVignetteAmount | 0 |
ProcessVersion | 6.7 |
ProfileDescription | sRGB IEC61966-2.1 |
Province-State | Finnmark |
Rating | 0 |
RawFileName | _IGP7332.DNG |
RedHue | 0 |
RedSaturation | 0 |
Rights | Alexander Evensen |
Saturation (1) | 0 |
Saturation | Normal |
SaturationAdjustmentAqua | 0 |
SaturationAdjustmentBlue | 0 |
SaturationAdjustmentGreen | 0 |
SaturationAdjustmentMagenta | 0 |
SaturationAdjustmentOrange | 0 |
SaturationAdjustmentPurple | 0 |
SaturationAdjustmentRed | 0 |
SaturationAdjustmentYellow | 0 |
ScaleFactor35efl | 1.5 |
SceneCaptureType | Standard |
SensingMethod | One-chip color area |
Shadows2012 | +16 |
ShadowTint | 0 |
SharpenDetail | 25 |
SharpenEdgeMasking | 0 |
SharpenRadius | +1.0 |
Sharpness (1) | 0 |
Sharpness | Hard |
ShutterSpeed | 4 |
ShutterSpeedValue | 4 |
Software | K-5 Ver 1.14 |
SplitToningBalance | 0 |
SplitToningHighlightHue | 0 |
SplitToningHighlightSaturation | 0 |
SplitToningShadowHue | 0 |
SplitToningShadowSaturation | 0 |
State | Finnmark |
Subject | Nissan, Laurel, C32, facelift, 1987, 2.0 LX, rain, spring, night |
SubjectDistanceRange | Distant |
Tint | +13 |
Title | Nissan Laurel C32 Facelift 1987 |
ToneCurveName2012 | Custom |
ToneCurvePV2012 | 0, 0, 30, 16, 63, 66, 255, 255 |
ToneCurvePV2012Blue | 0, 0, 255, 255 |
ToneCurvePV2012Green | 0, 0, 255, 255 |
ToneCurvePV2012Red | 0, 0, 255, 255 |
URL_List | |
UsageTerms | Do not use without permission from me. |
Version | 7.4 |
Vibrance | +25 |
VignetteAmount | 0 |
WhiteBalance (1) | As Shot |
WhiteBalance | Manual |
Whites2012 | 0 |