Felt | Verdi |
AlreadyApplied | True |
Aperture | 6.3 |
ApertureValue | 6.3 |
Artist | Kristjan Logason |
AutoLateralCA | 0 |
BitsPerSample | 8 |
Blacks2012 | +18 |
BlueHue | 0 |
BlueSaturation | 0 |
Brightness | +50 |
By-line | Kristjan Logason |
By-lineTitle | Photographer |
CameraProfile | Camera Portrait |
Caption-Abstract | Woman at the market in San Cristobal de casas in Chiapas, Mexico begging for money |
CircleOfConfusion | 0.030 mm |
Clarity | 0 |
Clarity2012 | +30 |
ColorComponents | 3 |
ColorNoiseReduction | 0 |
ColorSpace | sRGB |
ColorTemperature | 5549 |
Contrast | +25 |
Contrast2012 | -6 |
ConvertToGrayscale | True |
Copyright | © 2007 Kristjan Logason |
CopyrightFlag | True |
CopyrightNotice | © 2007 Kristjan Logason |
Country-PrimaryLocationCode | MEX |
Country-PrimaryLocationName | Mexico |
CreateDate | 2007:09:16 16:10:09 |
Credit | Kristjan Logason |
CropAngle | 0 |
CropBottom | 1 |
CropConstrainToWarp | 0 |
CropHeight | 1000 |
CropLeft | 0.495965 |
CropRight | 1 |
CropTop | 0.243948 |
CropUnit | pixels |
CropWidth | 1000 |
CustomRendered | Normal |
DateCreated | 2007:09:16 |
DateTimeOriginal | 2007:09:16 16:10:09 |
Defringe | 0 |
ExifImageHeight | 1000 |
ExifImageWidth | 1000 |
Exposure | 0.00 |
Exposure2012 | -1.20 |
ExposureCompensation | 0 |
ExposureMode | Auto |
ExposureProgram | Shutter speed priority AE |
ExposureTime | 1/125 |
FillLight | 0 |
Flash | Off, Did not fire |
FNumber | 6.3 |
FocalLength | 70.0 mm |
FocalLength35efl | 70.0 mm (35 mm equivalent: 69.9 mm) |
FOV | 28.9 deg |
GradientBasedCorrActive | true |
GradientBasedCorrAmount | 1.000000 |
GradientBasedCorrBrightness | 0.000000 |
GradientBasedCorrClarity | 0.000000 |
GradientBasedCorrClarity2012 | 0.000000 |
GradientBasedCorrContrast | 0.000000 |
GradientBasedCorrContrast2012 | 0.000000 |
GradientBasedCorrExposure | 0.000000 |
GradientBasedCorrExposure2012 (1) | -0.189993 |
GradientBasedCorrExposure2012 (2) | -0.203125 |
GradientBasedCorrExposure2012 (3) | -0.128906 |
GradientBasedCorrExposure2012 (4) | -0.072972 |
GradientBasedCorrExposure2012 (5) | -0.068235 |
GradientBasedCorrExposure2012 | -0.078956 |
GradientBasedCorrHighlights2012 (2) | -0.171626 |
GradientBasedCorrHighlights2012 (3) | -0.187583 |
GradientBasedCorrHighlights2012 | 0.000000 |
GradientBasedCorrHue | 0.000000 |
GradientBasedCorrLuminanceNoise | 0.000000 |
GradientBasedCorrMaskFullX (1) | 0.355454 |
GradientBasedCorrMaskFullX (2) | 0.698967 |
GradientBasedCorrMaskFullX (3) | 0.841936 |
GradientBasedCorrMaskFullX (4) | 0.456203 |
GradientBasedCorrMaskFullX (5) | 0.522115 |
GradientBasedCorrMaskFullX | 0.801849 |
GradientBasedCorrMaskFullY (1) | 0.382750 |
GradientBasedCorrMaskFullY (2) | 0.290934 |
GradientBasedCorrMaskFullY (3) | 0.891737 |
GradientBasedCorrMaskFullY (4) | 0.966459 |
GradientBasedCorrMaskFullY (5) | 0.175686 |
GradientBasedCorrMaskFullY | 0.214033 |
GradientBasedCorrMaskValue | 1.000000 |
GradientBasedCorrMaskWhat | Mask/Gradient |
GradientBasedCorrMaskZeroX (1) | 0.606803 |
GradientBasedCorrMaskZeroX (2) | 0.708017 |
GradientBasedCorrMaskZeroX (3) | 0.765282 |
GradientBasedCorrMaskZeroX (4) | 0.451635 |
GradientBasedCorrMaskZeroX (5) | 0.616789 |
GradientBasedCorrMaskZeroX | 0.728012 |
GradientBasedCorrMaskZeroY (1) | 0.534140 |
GradientBasedCorrMaskZeroY (2) | 0.768268 |
GradientBasedCorrMaskZeroY (3) | 0.652210 |
GradientBasedCorrMaskZeroY (4) | 0.766290 |
GradientBasedCorrMaskZeroY (5) | 0.447224 |
GradientBasedCorrMaskZeroY | 0.557146 |
GradientBasedCorrMoire | 0.000000 |
GradientBasedCorrSaturation | 0.000000 |
GradientBasedCorrShadows2012 | 0.000000 |
GradientBasedCorrSharpness | 0.000000 |
GradientBasedCorrTemperature | 0.000000 |
GradientBasedCorrTint | 0.000000 |
GradientBasedCorrWhat | Correction |
GrainAmount | 0 |
GrayMixerAqua | +14 |
GrayMixerBlue | +16 |
GrayMixerGreen | -13 |
GrayMixerMagenta | 0 |
GrayMixerOrange | +33 |
GrayMixerPurple | 0 |
GrayMixerRed | +15 |
GrayMixerYellow | +15 |
GreenHue | 0 |
GreenSaturation | 0 |
HasCrop | True |
HasSettings | True |
Headline | Begging woman in Mexico |
HighlightRecovery | 0 |
Highlights2012 | -16 |
HyperfocalDistance | 25.85 m |
ImageDescription | Woman at the market in San Cristobal de casas in Chiapas, Mexico begging for money |
ImageHeight | 1000 |
ImageSize | 1000x1000 |
ImageWidth | 1000 |
ISO | 400 |
Keywords | san cristobal de casas, chiapas, mexico, woman, old, begging, begger, poor, market, Black and white |
LensInfo | 24-70mm f/? |
LensManualDistortionAmount | 0 |
LensModel | 24.0-70.0 mm |
LensProfileEnable | 0 |
LensProfileSetup | LensDefaults |
LightValue | 10.3 |
LuminanceSmoothing | 0 |
Make | Canon |
MaxApertureValue | 2.8 |
Megapixels | 1.0 |
MeteringMode | Multi-segment |
Model | Canon EOS-1Ds Mark II |
ModifyDate | 2012:02:10 19:00:34 |
ObjectName | Begging woman in Mexico |
Orientation | Horizontal (normal) |
OwnerName | Kristjan Logason |
PaintCorrectionActive | true |
PaintCorrectionAmount | 1.000000 |
PaintCorrectionBrightness | 0.000000 |
PaintCorrectionClarity | 0.000000 |
PaintCorrectionClarity2012 (1) | 0.284242 |
PaintCorrectionClarity2012 (2) | 0.000000 |
PaintCorrectionClarity2012 | 0.121260 |
PaintCorrectionContrast | 0.000000 |
PaintCorrectionContrast2012 (1) | 0.137134 |
PaintCorrectionContrast2012 (2) | 0.000000 |
PaintCorrectionContrast2012 | 0.058926 |
PaintCorrectionExposure | 0.000000 |
PaintCorrectionExposure2012 (1) | 0.114279 |
PaintCorrectionExposure2012 (2) | 0.148105 |
PaintCorrectionExposure2012 | 0.000000 |
PaintCorrectionHighlights2012 (1) | 0.094581 |
PaintCorrectionHighlights2012 (2) | 0.000000 |
PaintCorrectionHighlights2012 | 0.073554 |
PaintCorrectionHue | 0.000000 |
PaintCorrectionLuminanceNoise | 0.000000 |
PaintCorrectionMaskCenterWeight | 0.000000 |
PaintCorrectionMaskFlow (10) | 0.453901 |
PaintCorrectionMaskFlow (5) | 0.059480 |
PaintCorrectionMaskFlow (6) | 0.377953 |
PaintCorrectionMaskFlow (8) | 0.030534 |
PaintCorrectionMaskFlow | 1.000000 |
PaintCorrectionMaskRadius (3) | 0.015668 |
PaintCorrectionMaskRadius (9) | 0.013378 |
PaintCorrectionMaskRadius | 0.011845 |
PaintCorrectionMaskValue (9) | 0.000000 |
PaintCorrectionMaskValue | 1.000000 |
PaintCorrectionMaskWhat | Mask/Paint |
PaintCorrectionMoire | 0.000000 |
PaintCorrectionSaturation | 0.000000 |
PaintCorrectionShadows2012 | 0.000000 |
PaintCorrectionSharpness | 0.000000 |
PaintCorrectionTemperature | 0.000000 |
PaintCorrectionTint | 0.000000 |
PaintCorrectionWhat | Correction |
ParametricDarks | -33 |
ParametricHighlights | -28 |
ParametricHighlightSplit | 90 |
ParametricLights | +28 |
ParametricMidtoneSplit | 50 |
ParametricShadows | 0 |
ParametricShadowSplit | 10 |
PerspectiveHorizontal | 0 |
PerspectiveRotate | 0.0 |
PerspectiveScale | 100 |
PerspectiveVertical | 0 |
PostCropVignetteAmount | -23 |
PostCropVignetteFeather | 48 |
PostCropVignetteHighlightContrast | 36 |
PostCropVignetteMidpoint | 38 |
PostCropVignetteRoundness | -35 |
PostCropVignetteStyle | 1 |
ProcessVersion | 6.6 |
ProfileDescription | sRGB IEC61966-2.1 |
RedHue | 0 |
RedSaturation | 0 |
ScaleFactor35efl | 1.0 |
SceneCaptureType | Standard |
SerialNumber | 334645 |
Shadows | 5 |
Shadows2012 | -24 |
ShadowTint | 0 |
SharpenDetail | 25 |
SharpenEdgeMasking | 0 |
SharpenRadius | +1.0 |
Sharpness | 0 |
ShutterSpeed | 1/125 |
ShutterSpeedValue | 1/125 |
Software | Adobe Photoshop CS3 Macintosh |
Source | Kristjan Logason |
SplitToningBalance | 0 |
SplitToningHighlightHue | 56 |
SplitToningHighlightSaturation | 4 |
SplitToningShadowHue | 0 |
SplitToningShadowSaturation | 0 |
Tint | -30 |
ToneCurve | 0, 0, 32, 22, 64, 56, 128, 128, 192, 196, 255, 255 |
ToneCurveBlue | 0, 0, 255, 255 |
ToneCurveGreen | 0, 0, 255, 255 |
ToneCurveName | Medium Contrast |
ToneCurveName2012 | Linear |
ToneCurvePV2012 | 0, 0, 255, 255 |
ToneCurvePV2012Blue | 0, 0, 255, 255 |
ToneCurvePV2012Green | 0, 0, 255, 255 |
ToneCurvePV2012Red | 0, 0, 255, 255 |
ToneCurveRed | 0, 0, 255, 255 |
URL | www.aurora.is |
URL_List | |
Version | 7.0 |
VignetteAmount | 0 |
WhiteBalance (1) | Custom |
WhiteBalance | Auto |
Whites2012 | -44 |
Writer-Editor | Kristjan Logason |