Felt | Verdi |
AlreadyApplied | True |
Aperture | 5.6 |
ApertureValue | 5.6 |
Artist | Lisbeth SimensenRUSTADSAGA856 0693 OSLO NORWAY |
BitsPerSample | 8 |
BlueHue | 0 |
BlueSaturation | 0 |
Brightness | +59 |
By-line | Lisbeth SimensenRUSTADSAGA856 |
CameraProfile | Adobe Standard |
ChromaticAberrationB | 0 |
ChromaticAberrationR | 0 |
CircleOfConfusion | 0.019 mm |
Clarity | +100 |
ColorComponents | 3 |
ColorMode | RGB |
ColorNoiseReduction | 25 |
ColorNoiseReductionDetail | 50 |
ColorSpace | sRGB |
ColorTemperature | 5600 |
Contrast | +70 |
ConvertToGrayscale | False |
CreateDate (1) | 2011:09:30 10:32:22.18+02:00 |
CreateDate | 2011:09:30 10:32:22 |
Creator | Lisbeth SimensenRUSTADSAGA856 0693 OSLO NORWAY |
CustomRendered | Normal |
DateTimeDigitized | 2011:09:30 10:32:22.18+02:00 |
DateTimeOriginal (1) | 2011:09:30 10:32:22.18+02:00 |
DateTimeOriginal | 2011:09:30 10:32:22 |
Defringe | 0 |
DOF | 0.19 m (6.75 - 6.94 m) |
ExifImageHeight | 780 |
ExifImageWidth | 938 |
Exposure | +0.40 |
ExposureCompensation | 0 |
ExposureMode | Manual |
ExposureProgram | Manual |
ExposureTime | 1/250 |
FillLight | 36 |
Firmware | 1.1.0 |
Flash | Off, Did not fire |
FlashCompensation | 0 |
FlashFired | False |
FlashFunction | False |
FlashMode | Off |
FlashRedEyeMode | False |
FlashReturn | No return detection |
FNumber | 5.6 |
FocalLength | 225.0 mm |
FocalLength35efl | 225.0 mm (35 mm equivalent: 353.3 mm) |
Format | image/jpeg |
FOV | 5.8 deg |
GrainAmount | 0 |
GreenHue | 0 |
GreenSaturation | 0 |
HasCrop | False |
HasSettings | True |
HighlightRecovery | 4 |
HueAdjustmentAqua | 0 |
HueAdjustmentBlue | 0 |
HueAdjustmentGreen | 0 |
HueAdjustmentMagenta | 0 |
HueAdjustmentOrange | 0 |
HueAdjustmentPurple | 0 |
HueAdjustmentRed | 0 |
HueAdjustmentYellow | 0 |
HyperfocalDistance | 472.47 m |
ICCProfileName | sRGB IEC61966-2.1 |
ImageHeight | 780 |
ImageNumber | 0 |
ImageSize | 938x780 |
ImageWidth | 938 |
ISO | 100 |
Lens | EF70-200mm f/2.8L IS USM +1.4x |
LensID (1) | 225 |
LensID | Canon EF 70-200mm f/2.8L IS USM + 1.4x |
LensInfo | 98-280mm f/? |
LensManualDistortionAmount | 0 |
LensProfileEnable | 0 |
LensProfileSetup | LensDefaults |
LightValue | 12.9 |
LuminanceAdjustmentAqua | 0 |
LuminanceAdjustmentBlue | 0 |
LuminanceAdjustmentGreen | 0 |
LuminanceAdjustmentMagenta | 0 |
LuminanceAdjustmentOrange | 0 |
LuminanceAdjustmentPurple | 0 |
LuminanceAdjustmentRed | 0 |
LuminanceAdjustmentYellow | 0 |
LuminanceSmoothing | 0 |
Make | Canon |
MaxApertureValue | 4.0 |
Megapixels | 0.732 |
MeteringMode | Multi-segment |
Model | Canon EOS 7D |
ModifyDate (1) | 2011:10:12 10:43:11+02:00 |
ModifyDate | 2011:10:12 10:43:11 |
Orientation | Horizontal (normal) |
ParametricDarks | 0 |
ParametricHighlights | 0 |
ParametricHighlightSplit | 75 |
ParametricLights | 0 |
ParametricMidtoneSplit | 50 |
ParametricShadows | 0 |
ParametricShadowSplit | 25 |
PerspectiveHorizontal | 0 |
PerspectiveRotate | 0.0 |
PerspectiveScale | 100 |
PerspectiveVertical | 0 |
PostCropVignetteAmount | 0 |
ProcessVersion | 5.7 |
ProfileDescription | sRGB IEC61966-2.1 |
Rating | 0 |
RawFileName | IMG_2870.CR2 |
RedHue | 0 |
RedSaturation | 0 |
Saturation | -3 |
SaturationAdjustmentAqua | 0 |
SaturationAdjustmentBlue | 0 |
SaturationAdjustmentGreen | 0 |
SaturationAdjustmentMagenta | 0 |
SaturationAdjustmentOrange | 0 |
SaturationAdjustmentPurple | 0 |
SaturationAdjustmentRed | 0 |
SaturationAdjustmentYellow | 0 |
ScaleFactor35efl | 1.6 |
SceneCaptureType | Standard |
SerialNumber | 680511537 |
Shadows | 6 |
ShadowTint | 0 |
SharpenDetail | 31 |
SharpenEdgeMasking | 0 |
SharpenRadius | +1.2 |
Sharpness | 51 |
ShutterSpeed | 1/250 |
ShutterSpeedValue | 1/250 |
SidecarForExtension | CR2 |
Software | Adobe Photoshop Elements 9.0 Macintosh |
SplitToningBalance | 0 |
SplitToningHighlightHue | 0 |
SplitToningHighlightSaturation | 0 |
SplitToningShadowHue | 0 |
SplitToningShadowSaturation | 0 |
SubjectDistance | 6.84 m |
Tint | +14 |
ToneCurve | 0, 0, 32, 22, 64, 56, 128, 128, 192, 196, 255, 255 |
ToneCurveName | Medium Contrast |
URL_List | |
Version | 6.1 |
Vibrance | +6 |
VignetteAmount | 0 |
WhiteBalance | Auto |