Felt | Verdi |
AlreadyApplied | True |
Aperture | 3.5 |
ApertureValue | 3.5 |
BitsPerSample | 8 |
BlueHue | 0 |
BlueSaturation | 0 |
Brightness | +65 |
BrightnessValue | 4.62 |
CameraProfile | ACR 4.4 |
Caption-Abstract | SONY DSC |
ChromaticAberrationB | 0 |
ChromaticAberrationR | 0 |
CircleOfConfusion | 0.020 mm |
Clarity | +13 |
ColorComponents | 3 |
ColorMode | RGB |
ColorNoiseReduction | 25 |
ColorSpace | sRGB |
ColorTemperature | 7700 |
Contrast (2) | +25 |
Contrast | Normal |
ConvertToGrayscale | False |
CopyrightFlag | False |
CreateDate (1) | 2011:05:01 19:19:20+02:00 |
CreateDate | 2011:04:25 14:29:39 |
CreatorTool | Adobe Photoshop CS3 Windows |
CustomRendered | Normal |
DateTimeDigitized | 2011:04:25 14:29:39+02:00 |
DateTimeOriginal (1) | 2011:04:25 14:29:39+02:00 |
DateTimeOriginal | 2011:04:25 14:29:39 |
Defringe | 0 |
DerivedFrom | |
Description | SONY DSC |
DigitalZoomRatio | 0 |
ExifImageHeight | 853 |
ExifImageWidth | 1280 |
Exposure | 0.00 |
ExposureCompensation | 0 |
ExposureMode | Auto |
ExposureProgram | Aperture-priority AE |
ExposureTime | 1/125 |
FillLight | 5 |
Flash | Off, Did not fire |
FlashFired | False |
FlashFunction | False |
FlashMode | Off |
FlashRedEyeMode | False |
FlashReturn | No return detection |
FNumber | 3.5 |
FocalLength | 105.0 mm |
FocalLength35efl | 105.0 mm (35 mm equivalent: 157.0 mm) |
FocalLengthIn35mmFormat | 157 mm |
Format | image/jpeg |
FOV | 13.1 deg |
GreenHue | 0 |
GreenSaturation | 0 |
HasCrop | False |
HasSettings | True |
HighlightRecovery | 20 |
HueAdjustmentAqua | 0 |
HueAdjustmentBlue | 0 |
HueAdjustmentGreen | 0 |
HueAdjustmentMagenta | 0 |
HueAdjustmentOrange | 0 |
HueAdjustmentPurple | 0 |
HueAdjustmentRed | 0 |
HueAdjustmentYellow | 0 |
HyperfocalDistance | 156.76 m |
ICCProfileName | sRGB IEC61966-2.1 |
ImageDescription | SONY DSC |
ImageHeight | 853 |
ImageSize | 1280x853 |
ImageWidth | 1280 |
ISO | 200 |
LightSource | Unknown |
LightValue | 9.6 |
LuminanceAdjustmentAqua | 0 |
LuminanceAdjustmentBlue | 0 |
LuminanceAdjustmentGreen | 0 |
LuminanceAdjustmentMagenta | 0 |
LuminanceAdjustmentOrange | 0 |
LuminanceAdjustmentPurple | 0 |
LuminanceAdjustmentRed | 0 |
LuminanceAdjustmentYellow | 0 |
LuminanceSmoothing | 0 |
Make | SONY |
MaxApertureValue | 2.8 |
Megapixels | 1.1 |
MeteringMode | Center-weighted average |
Model | DSLR-A700 |
ModifyDate (1) | 2011:05:01 19:23:05+02:00 |
ModifyDate | 2011:05:01 19:23:05 |
Orientation | Horizontal (normal) |
ParametricDarks | 0 |
ParametricHighlights | 0 |
ParametricHighlightSplit | 75 |
ParametricLights | 0 |
ParametricMidtoneSplit | 50 |
ParametricShadows | 0 |
ParametricShadowSplit | 25 |
PostCropVignetteAmount | 0 |
ProfileDescription | sRGB IEC61966-2.1 |
Rating | 0 |
RawFileName | DSC07872.ARW |
RedHue | 0 |
RedSaturation | 0 |
Saturation (2) | -4 |
Saturation | Normal |
SaturationAdjustmentAqua | 0 |
SaturationAdjustmentBlue | 0 |
SaturationAdjustmentGreen | 0 |
SaturationAdjustmentMagenta | 0 |
SaturationAdjustmentOrange | 0 |
SaturationAdjustmentPurple | 0 |
SaturationAdjustmentRed | 0 |
SaturationAdjustmentYellow | 0 |
ScaleFactor35efl | 1.5 |
SceneCaptureType | Standard |
SceneType | Directly photographed |
Shadows | 20 |
ShadowTint | 0 |
SharpenDetail | 25 |
SharpenEdgeMasking | 0 |
SharpenRadius | +1.0 |
Sharpness (2) | 25 |
Sharpness | Normal |
ShutterSpeed | 1/125 |
ShutterSpeedValue | 1/125 |
SidecarForExtension | ARW |
Software | Adobe Photoshop CS3 Windows |
SplitToningBalance | 0 |
SplitToningHighlightHue | 0 |
SplitToningHighlightSaturation | 0 |
SplitToningShadowHue | 0 |
SplitToningShadowSaturation | 0 |
Tint | +32 |
ToneCurve | 0, 0, 32, 22, 64, 56, 128, 128, 192, 196, 255, 255 |
ToneCurveName | Medium Contrast |
URL_List | |
Version | 4.5 |
Vibrance | +13 |
VignetteAmount | 0 |
WhiteBalance (2) | As Shot |
WhiteBalance | Auto |