Felt | Verdi |
AlreadyApplied | True |
Aperture | 4.0 |
ApertureValue | 4.0 |
BitsPerSample | 8 |
BlueHue | 0 |
BlueSaturation | 0 |
Brightness | +50 |
CameraProfile | Adobe Standard |
ChromaticAberrationB | 0 |
ChromaticAberrationR | -8 |
CircleOfConfusion | 0.019 mm |
Clarity | -65 |
ColorComponents | 3 |
ColorNoiseReduction | 0 |
ColorTemperature | 6568 |
Contrast | +67 |
ConvertToGrayscale | False |
CreateDate (1) | 2011:01:16 13:54:08.79+01:00 |
CreateDate | 2011:01:16 13:54:08 |
CreatorTool | Microsoft Windows Photo Viewer 6.1.7600.16385 |
CropAngle | 0 |
CropBottom | 0.900453 |
CropConstrainToWarp | 0 |
CropHeight | 3112 |
CropLeft | 0.055806 |
CropRight | 0.951735 |
CropTop | 0 |
CropUnit | pixels |
CropWidth | 4644 |
CustomRendered | Normal |
DateTimeDigitized | 2011:01:16 13:54:08.79+01:00 |
DateTimeOriginal (1) | 2011:01:16 13:54:08.79+01:00 |
DateTimeOriginal | 2011:01:16 13:54:08 |
Defringe | 0 |
DOF | 0.24 m (0.70 - 0.94 m) |
ExifImageHeight | 3112 |
ExifImageWidth | 4644 |
Exposure | 0.00 |
ExposureCompensation | 0 |
ExposureMode | Manual |
ExposureProgram | Manual |
ExposureTime | 1/125 |
FillLight | 4 |
Firmware | 1.2.2 |
Flash | On, Fired |
FlashCompensation | 0 |
FlashFired | True |
FlashFunction | False |
FlashMode | On |
FlashRedEyeMode | False |
FlashReturn | No return detection |
FNumber | 4.0 |
FocalLength | 20.0 mm |
FocalLength35efl | 20.0 mm (35 mm equivalent: 31.4 mm) |
FOV | 59.6 deg |
GrainAmount | 0 |
GreenHue | 0 |
GreenSaturation | 0 |
HasCrop | True |
HasSettings | True |
HighlightRecovery | 76 |
HueAdjustmentAqua | 0 |
HueAdjustmentBlue | 0 |
HueAdjustmentGreen | 0 |
HueAdjustmentMagenta | 0 |
HueAdjustmentOrange | 0 |
HueAdjustmentPurple | 0 |
HueAdjustmentRed | 0 |
HueAdjustmentYellow | 0 |
HyperfocalDistance | 5.23 m |
ImageHeight (1) | 3112 |
ImageHeight | 4644 |
ImageNumber | 0 |
ImageSize | 3112x4644 |
ImageWidth (1) | 4644 |
ImageWidth | 3112 |
ISO | 800 |
Lens | EF17-40mm f/4L USM |
LensID (1) | 231 |
LensID | Canon EF 17-40mm f/4L USM |
LensInfo | 17-40mm f/? |
LensManualDistortionAmount | 0 |
LensProfileChromaticAberrationScale | 100 |
LensProfileDistortionScale | 100 |
LensProfileEnable | 1 |
LensProfileFilename | Canon EOS-1D Mark III (Canon EF 17-40mm f4 L USM) - RAW.lcp |
LensProfileName | Canon EOS-1D Mark III (Canon EF 17-40mm f/4 L USM) |
LensProfileSetup | Custom |
LensProfileVignettingScale | 172 |
LightValue | 8.0 |
LuminanceAdjustmentAqua | 0 |
LuminanceAdjustmentBlue | 0 |
LuminanceAdjustmentGreen | 0 |
LuminanceAdjustmentMagenta | 0 |
LuminanceAdjustmentOrange | +25 |
LuminanceAdjustmentPurple | 0 |
LuminanceAdjustmentRed | +13 |
LuminanceAdjustmentYellow | +29 |
LuminanceSmoothing | 0 |
Make | Canon |
MaxApertureValue | 4.0 |
Megapixels | 14.5 |
MeteringMode | Multi-segment |
Model | Canon EOS 7D |
ModifyDate (1) | 2011:01:16 15:08:20+01:00 |
ModifyDate | 2011:01:16 15:08:44 |
Orientation | Horizontal (normal) |
ParametricDarks | +46 |
ParametricHighlights | -29 |
ParametricHighlightSplit | 75 |
ParametricLights | -6 |
ParametricMidtoneSplit | 50 |
ParametricShadows | +17 |
ParametricShadowSplit | 25 |
PerspectiveHorizontal | 0 |
PerspectiveRotate | 0.0 |
PerspectiveScale | 100 |
PerspectiveVertical | 0 |
PostCropVignetteAmount | 0 |
ProcessVersion | 5.7 |
ProfileDescription | sRGB IEC61966-2.1 |
RedHue | 0 |
RedSaturation | 0 |
Saturation | -8 |
SaturationAdjustmentAqua | 0 |
SaturationAdjustmentBlue | -73 |
SaturationAdjustmentGreen | -65 |
SaturationAdjustmentMagenta | 0 |
SaturationAdjustmentOrange | 0 |
SaturationAdjustmentPurple | 0 |
SaturationAdjustmentRed | +25 |
SaturationAdjustmentYellow | -50 |
ScaleFactor35efl | 1.6 |
SceneCaptureType | Standard |
SerialNumber | 1580813967 |
Shadows | 5 |
ShadowTint | 0 |
SharpenDetail | 0 |
SharpenEdgeMasking | 0 |
SharpenRadius | +0.5 |
Sharpness | 0 |
ShutterSpeed | 1/125 |
ShutterSpeedValue | 1/125 |
Software | Microsoft Windows Photo Viewer 6.1.7600.16385 |
SplitToningBalance | +52 |
SplitToningHighlightHue | 48 |
SplitToningHighlightSaturation | 58 |
SplitToningShadowHue | 25 |
SplitToningShadowSaturation | 34 |
SubjectDistance | 0.8 m |
Tint | +16 |
ToneCurve | 0, 0, 32, 22, 64, 56, 128, 128, 192, 196, 255, 255 |
ToneCurveName | Medium Contrast |
Version | 6.1 |
Vibrance | -29 |
VignetteAmount | +100 |
VignetteMidpoint | 5 |
WhiteBalance (2) | Custom |
WhiteBalance | Manual |