Felt | Verdi |
AlreadyApplied | True |
Aperture | 13.0 |
ApertureValue | 13.0 |
BitsPerSample | 8 |
BlueHue | 0 |
BlueSaturation | 0 |
Brightness | +59 |
CameraProfile | Embedded |
ChromaticAberrationB | 0 |
ChromaticAberrationR | 0 |
CircleOfConfusion | 0.024 mm |
Clarity | 0 |
ColorComponents | 3 |
ColorMode | RGB |
ColorNoiseReduction | 25 |
ColorSpace | sRGB |
Contrast | +9 |
ConvertToGrayscale | False |
CopyrightFlag | False |
CreateDate (1) | 2010:10:14 16:15:42+02:00 |
CreateDate | 2010:10:11 17:20:43 |
CreatorTool | Adobe Photoshop CS3 Windows |
CropAngle | 0 |
CropBottom | 0.962141 |
CropHeight | 2122 |
CropLeft | 0 |
CropRight | 0.952731 |
CropTop | 0.053938 |
CropUnit | pixels |
CropWidth | 3338 |
CustomRendered | Normal |
DateAcquired | 2010:10:11 19:35:06 |
DateTimeDigitized | 2010:10:11 17:20:43+02:00 |
DateTimeOriginal (1) | 2010:10:11 17:20:43+02:00 |
DateTimeOriginal | 2010:10:11 17:20:43 |
Defringe | 0 |
ExifImageHeight | 566 |
ExifImageWidth | 890 |
Exposure | -0.18 |
ExposureCompensation | -1/3 |
ExposureMode | Auto |
ExposureProgram | Aperture-priority AE |
ExposureTime | 1/10 |
FillLight | 0 |
Flash | Off, Did not fire |
FlashFired | False |
FlashFunction | False |
FlashMode | Off |
FlashRedEyeMode | False |
FlashReturn | No return detection |
FNumber | 13.0 |
FocalLength | 200.0 mm |
FocalLength35efl | 200.0 mm (35 mm equivalent: 249.7 mm) |
Format | image/jpeg |
FOV | 8.2 deg |
GreenHue | 0 |
GreenSaturation | 0 |
HasCrop | True |
HasSettings | True |
HighlightRecovery | 0 |
HueAdjustmentAqua | 0 |
HueAdjustmentBlue | 0 |
HueAdjustmentGreen | 0 |
HueAdjustmentMagenta | 0 |
HueAdjustmentOrange | 0 |
HueAdjustmentPurple | 0 |
HueAdjustmentRed | 0 |
HueAdjustmentYellow | 0 |
HyperfocalDistance | 127.84 m |
ICCProfileName | sRGB IEC61966-2.1 |
ImageHeight (1) | 2122 |
ImageHeight | 566 |
ImageSize | 890x566 |
ImageWidth (1) | 3338 |
ImageWidth | 890 |
IncrementalTemperature | -15 |
IncrementalTint | -65 |
ISO | 500 |
LightValue | 8.4 |
LuminanceAdjustmentAqua | 0 |
LuminanceAdjustmentBlue | 0 |
LuminanceAdjustmentGreen | 0 |
LuminanceAdjustmentMagenta | 0 |
LuminanceAdjustmentOrange | 0 |
LuminanceAdjustmentPurple | 0 |
LuminanceAdjustmentRed | 0 |
LuminanceAdjustmentYellow | 0 |
LuminanceSmoothing | 0 |
Make | Canon |
Megapixels | 0.504 |
MeteringMode | Multi-segment |
Model | Canon EOS-1D Mark II |
ModifyDate (1) | 2010:10:14 16:15:42+02:00 |
ModifyDate | 2010:10:14 16:15:42 |
Orientation | Horizontal (normal) |
PaintCorrectionActive | true |
PaintCorrectionAmount | 1.000000 |
PaintCorrectionBrightness | -1.000000 |
PaintCorrectionClarity | 0.000000 |
PaintCorrectionContrast | 0.000000 |
PaintCorrectionExposure | -0.275000 |
PaintCorrectionHue | 0.000000 |
PaintCorrectionMaskCenterWeight | 0.032726 |
PaintCorrectionMaskFlow | 0.963000 |
PaintCorrectionMaskRadius | 0.038733 |
PaintCorrectionMaskValue | 0.413000 |
PaintCorrectionMaskWhat | Mask/Paint |
PaintCorrectionSaturation | 0.000000 |
PaintCorrectionSharpness | 0.000000 |
PaintCorrectionWhat | Correction |
ParametricDarks | -3 |
ParametricHighlights | 0 |
ParametricHighlightSplit | 75 |
ParametricLights | 0 |
ParametricMidtoneSplit | 50 |
ParametricShadows | -14 |
ParametricShadowSplit | 25 |
PostCropVignetteAmount | -40 |
PostCropVignetteFeather | 57 |
PostCropVignetteMidpoint | 21 |
PostCropVignetteRoundness | +45 |
ProfileDescription | sRGB IEC61966-2.1 |
RedHue | 0 |
RedSaturation | 0 |
Saturation | -100 |
SaturationAdjustmentAqua | 0 |
SaturationAdjustmentBlue | 0 |
SaturationAdjustmentGreen | 0 |
SaturationAdjustmentMagenta | 0 |
SaturationAdjustmentOrange | 0 |
SaturationAdjustmentPurple | 0 |
SaturationAdjustmentRed | 0 |
SaturationAdjustmentYellow | 0 |
ScaleFactor35efl | 1.2 |
SceneCaptureType | Standard |
Shadows | 28 |
ShadowTint | 0 |
SharpenDetail | 50 |
SharpenEdgeMasking | 0 |
SharpenRadius | +1.0 |
Sharpness | 25 |
ShutterSpeed | 1/10 |
ShutterSpeedValue | 1/10 |
Software | Adobe Photoshop CS3 Windows |
SplitToningBalance | 0 |
SplitToningHighlightHue | 0 |
SplitToningHighlightSaturation | 0 |
SplitToningShadowHue | 0 |
SplitToningShadowSaturation | 0 |
ToneCurve | 0, 0, 255, 255 |
ToneCurveName | Linear |
URL_List | |
Version | 5.6 |
Vibrance | 0 |
VignetteAmount | 0 |
WhiteBalance (2) | Custom |
WhiteBalance | Auto |