Felt | Verdi |
AlreadyApplied | True |
Aperture | 8.0 |
ApertureValue | 8.0 |
ApproximateFocusDistance | 3.94 |
Artist | Eric Fagerheim |
AuthorsPosition | photographer |
BitsPerSample | 8 |
BlueHue | 0 |
BlueSaturation | 0 |
Brightness | 0 |
By-line | Eric Fagerheim |
By-lineTitle | photographer |
CameraProfile | Embedded |
ChromaticAberrationB | 0 |
ChromaticAberrationR | 0 |
CircleOfConfusion | 0.031 mm |
Clarity | 0 |
ColorComponents | 3 |
ColorNoiseReduction | 0 |
Contrast | 0 |
ConvertToGrayscale | False |
Copyright | Eric Fagerheim |
CopyrightFlag | True |
CopyrightNotice | Eric Fagerheim |
CreateDate (1) | 2010:10:05 17:52:47.58+02:00 |
CreateDate | 2010:10:05 17:52:47 |
Creator | Eric Fagerheim |
CreatorTool | Adobe Photoshop Lightroom |
CreatorWorkEmail | mail@fotofashion.no |
CreatorWorkURL | http://www.fotofashion.no |
CustomRendered | Normal |
DateCreated (1) | 2010:10:05 |
DateCreated | 2010:10:05 17:52:47.058 |
DateTimeDigitized | 2010:10:05 17:52:47.58+02:00 |
DateTimeOriginal (1) | 2010:10:05 17:52:47.58+02:00 |
DateTimeOriginal | 2010:10:05 17:52:47 |
Defringe | 0 |
DOF | 0.44 m (3.73 - 4.17 m) |
ExifImageHeight | 622 |
ExifImageWidth | 800 |
Exposure | -0.14 |
ExposureCompensation | 0 |
ExposureMode | Manual |
ExposureProgram | Manual |
ExposureTime | 1/160 |
FillLight | 0 |
Firmware | 2.0.7 |
Flash | Off, Did not fire |
FlashCompensation | 0 |
FlashFired | False |
FlashFunction | False |
FlashMode | Off |
FlashRedEyeMode | False |
FlashReturn | No return detection |
FNumber | 8.0 |
FocalLength | 130.0 mm |
FocalLength35efl | 130.0 mm (35 mm equivalent: 126.9 mm) |
Format | application/vnd.adobe.photoshop |
FOV | 16.1 deg |
GrainAmount | 0 |
GreenHue | 0 |
GreenSaturation | 0 |
HasCrop | False |
HasSettings | True |
Headline | Din fotograf i Trondheim - Fotofashion.no |
HighlightRecovery | 0 |
HueAdjustmentAqua | 0 |
HueAdjustmentBlue | 0 |
HueAdjustmentGreen | 0 |
HueAdjustmentMagenta | 0 |
HueAdjustmentOrange | 0 |
HueAdjustmentPurple | 0 |
HueAdjustmentRed | 0 |
HueAdjustmentYellow | 0 |
HyperfocalDistance | 68.62 m |
ImageHeight | 622 |
ImageNumber | 0 |
ImageSize | 800x622 |
ImageWidth | 800 |
IncrementalTemperature | 0 |
IncrementalTint | 0 |
ISO | 100 |
Keywords | bilde, foto, fotofashion, fotograf, fotograf trondheim, konfirmant, konfirmasjon, trondheim |
Lens | EF70-200mm f/2.8L IS USM |
LensID (1) | 224 |
LensID | Canon EF 70-200mm f/2.8L IS USM |
LensInfo | 70-200mm f/? |
LensManualDistortionAmount | 0 |
LensModel | EF70-200mm f/2.8L IS USM |
LensProfileEnable | 0 |
LensProfileSetup | LensDefaults |
LightValue | 13.3 |
LuminanceAdjustmentAqua | 0 |
LuminanceAdjustmentBlue | 0 |
LuminanceAdjustmentGreen | 0 |
LuminanceAdjustmentMagenta | 0 |
LuminanceAdjustmentOrange | 0 |
LuminanceAdjustmentPurple | 0 |
LuminanceAdjustmentRed | 0 |
LuminanceAdjustmentYellow | 0 |
LuminanceSmoothing | 0 |
Make | Canon |
Marked | True |
MaxApertureValue | 2.8 |
Megapixels | 0.498 |
MeteringMode | Multi-segment |
Model | Canon EOS 5D Mark II |
ModifyDate (1) | 2010:10:10 22:28:30+02:00 |
ModifyDate | 2010:10:10 22:28:30 |
ObjectName | Din fotograf i Trondheim - Fotofashion.no |
ParametricDarks | -18 |
ParametricHighlights | 0 |
ParametricHighlightSplit | 75 |
ParametricLights | 0 |
ParametricMidtoneSplit | 50 |
ParametricShadows | 0 |
ParametricShadowSplit | 25 |
PerspectiveHorizontal | 0 |
PerspectiveRotate | 0.0 |
PerspectiveScale | 100 |
PerspectiveVertical | 0 |
PLUSVersion | 1.2.0 |
PostCropVignetteAmount | 0 |
ProcessVersion | 5.7 |
ProfileDescription | sRGB IEC61966-2.1 |
PropertyReleaseStatus | None |
Rating | 1 |
RedHue | 0 |
RedSaturation | 0 |
Rights | Eric Fagerheim |
Saturation | 0 |
SaturationAdjustmentAqua | 0 |
SaturationAdjustmentBlue | 0 |
SaturationAdjustmentGreen | 0 |
SaturationAdjustmentMagenta | 0 |
SaturationAdjustmentOrange | 0 |
SaturationAdjustmentPurple | 0 |
SaturationAdjustmentRed | 0 |
SaturationAdjustmentYellow | 0 |
ScaleFactor35efl | 1.0 |
SceneCaptureType | Standard |
SensitivityType | Unknown |
SerialNumber | 1330823407 |
Shadows | 0 |
ShadowTint | 0 |
SharpenDetail | 25 |
SharpenEdgeMasking | 0 |
SharpenRadius | +1.0 |
Sharpness | 0 |
ShutterSpeed | 1/160 |
ShutterSpeedValue | 1/160 |
Software | Adobe Photoshop CS5 Windows |
SplitToningBalance | 0 |
SplitToningHighlightHue | 0 |
SplitToningHighlightSaturation | 0 |
SplitToningShadowHue | 0 |
SplitToningShadowSaturation | 0 |
Subject | bilde, foto, fotofashion, fotograf, fotograf trondheim, konfirmant, konfirmasjon, trondheim |
SubjectDistance | 3.94 m |
Title | Din fotograf i Trondheim - Fotofashion.no |
ToneCurve | 0, 0, 255, 255 |
ToneCurveName | Linear |
URL | Fotofashion.no |
Version | 6.2 |
Vibrance | 0 |
VignetteAmount | 0 |
WebStatement | Fotofashion.no |
WhiteBalance (2) | As Shot |
WhiteBalance | Auto |