Felt | Verdi |
AlreadyApplied | True |
Aperture | 5.6 |
ApertureValue | 5.6 |
ApproximateFocusDistance | 8.34 |
Artist | Tor Arvid Arntzen P.O. Box 28 Svolvaer Mobil: +47 95767445 |
AuthorsPosition | Chief Engineer |
BitsPerSample | 8 |
BlueHue | 0 |
BlueSaturation | 0 |
Brightness | +12 |
By-line | Tor Arvid Arntzen |
By-lineTitle | Chief Engineer |
CameraProfile | Adobe Standard |
ChromaticAberrationB | 0 |
ChromaticAberrationR | 0 |
CircleOfConfusion | 0.027 mm |
Clarity | 0 |
ColorComponents | 3 |
ColorNoiseReduction | 25 |
ColorNoiseReductionDetail | 50 |
ColorTemperature | 5150 |
Contrast | +47 |
ConvertToGrayscale | False |
Copyright | Tor Arvid Arntzen |
CopyrightFlag | True |
CopyrightNotice | Tor Arvid Arntzen |
CreateDate (1) | 2010:09:17 14:28:09.87+02:00 |
CreateDate | 2010:09:17 14:28:09 |
Creator | Tor Arvid Arntzen |
CreatorAddress | P.O. Box 28 |
CreatorCity | Svolvaer |
CreatorCountry | Norway |
CreatorPostalCode | 8301 |
CreatorRegion | Nordland |
CreatorTool | Adobe Photoshop Lightroom |
CreatorWorkEmail | bakkehaug1@hotmail.com |
CreatorWorkTelephone | +47 95767445 |
CreatorWorkURL | www.sildpollnes.com |
CropAngle | 0 |
CropBottom | 1 |
CropConstrainToWarp | 0 |
CropHeight | 2757 |
CropLeft | 0 |
CropRight | 0.931035 |
CropTop | 0.155294 |
CropUnit | pixels |
CropWidth | 4558 |
CustomRendered | Normal |
DateTimeDigitized | 2010:09:17 14:28:09.87+02:00 |
DateTimeOriginal (1) | 2010:09:17 14:28:09.87+02:00 |
DateTimeOriginal | 2010:09:17 14:28:09 |
Defringe | 0 |
DigitalSourceType | http://cv.iptc.org/newscodes/digitalsourcetype/digitalCapture |
DOF | 0.65 m (8.03 - 8.68 m) |
ExifImageHeight | 2757 |
ExifImageWidth | 4558 |
Exposure | +0.05 |
ExposureCompensation | 0 |
ExposureMode | Auto |
ExposureProgram | Shutter speed priority AE |
ExposureTime | 1/2000 |
FillLight | 56 |
Firmware | 1.0.8 |
Flash | No Flash |
FlashCompensation | 0 |
FlashFired | False |
FlashFunction | False |
FlashMode | Unknown |
FlashRedEyeMode | False |
FlashReturn | No return detection |
FNumber | 5.6 |
FocalLength | 178.0 mm |
FocalLength35efl | 178.0 mm (35 mm equivalent: 197.2 mm) |
FOV | 10.4 deg |
GradientBasedCorrActive | true |
GradientBasedCorrAmount | 1.000000 |
GradientBasedCorrBrightness | -0.561000 |
GradientBasedCorrClarity | 0.122000 |
GradientBasedCorrContrast | -0.829000 |
GradientBasedCorrExposure | 0.049000 |
GradientBasedCorrHue | 238.000000 |
GradientBasedCorrMaskFullX | 0.685368 |
GradientBasedCorrMaskFullY | 0.451777 |
GradientBasedCorrMaskValue | 1.000000 |
GradientBasedCorrMaskWhat | Mask/Gradient |
GradientBasedCorrMaskZeroX | 0.535013 |
GradientBasedCorrMaskZeroY | 0.665779 |
GradientBasedCorrSaturation (1) | 0.683000 |
GradientBasedCorrSaturation | 1.000000 |
GradientBasedCorrSharpness | 0.000000 |
GradientBasedCorrWhat | Correction |
GrainAmount | 0 |
GreenHue | 0 |
GreenSaturation | 0 |
HasCrop | True |
HasSettings | True |
HighlightRecovery | 71 |
HueAdjustmentAqua | 0 |
HueAdjustmentBlue | 0 |
HueAdjustmentGreen | 0 |
HueAdjustmentMagenta | 0 |
HueAdjustmentOrange | 0 |
HueAdjustmentPurple | 0 |
HueAdjustmentRed | 0 |
HueAdjustmentYellow | 0 |
HyperfocalDistance | 208.66 m |
ImageHeight | 2757 |
ImageNumber | 0 |
ImageSize | 4558x2757 |
ImageWidth | 4558 |
ISO | 400 |
Lens | 70-200mm |
LensID (1) | 131 |
LensID | Sigma 70-200mm f/2.8 APO EX HSM |
LensInfo | 70-200mm f/? |
LensManualDistortionAmount | 0 |
LensModel | 70-200mm |
LensProfileEnable | 0 |
LensProfileSetup | LensDefaults |
LightValue | 13.9 |
LuminanceAdjustmentAqua | 0 |
LuminanceAdjustmentBlue | 0 |
LuminanceAdjustmentGreen | 0 |
LuminanceAdjustmentMagenta | 0 |
LuminanceAdjustmentOrange | 0 |
LuminanceAdjustmentPurple | 0 |
LuminanceAdjustmentRed | 0 |
LuminanceAdjustmentYellow | 0 |
LuminanceSmoothing | 0 |
Make | Canon |
Marked | True |
MaxApertureValue | 2.8 |
Megapixels | 12.6 |
MeteringMode | Spot |
Model | Canon EOS-1D Mark IV |
ModifyDate (1) | 2010:09:19 17:32:28+02:00 |
ModifyDate | 2010:09:19 17:32:28 |
OwnerName | Jonny Vestli |
ParametricDarks | 0 |
ParametricHighlights | 0 |
ParametricHighlightSplit | 75 |
ParametricLights | 0 |
ParametricMidtoneSplit | 50 |
ParametricShadows | 0 |
ParametricShadowSplit | 25 |
PerspectiveHorizontal | 0 |
PerspectiveRotate | 0.0 |
PerspectiveScale | 100 |
PerspectiveVertical | 0 |
PLUSVersion | 1.2.0 |
PostCropVignetteAmount | 0 |
ProcessVersion | 5.7 |
ProfileDescription | Adobe RGB (1998) |
PropertyReleaseStatus | None |
RedHue | 0 |
RedSaturation | 0 |
Rights | Tor Arvid Arntzen |
Saturation | 0 |
SaturationAdjustmentAqua | 0 |
SaturationAdjustmentBlue | 0 |
SaturationAdjustmentGreen | 0 |
SaturationAdjustmentMagenta | 0 |
SaturationAdjustmentOrange | 0 |
SaturationAdjustmentPurple | 0 |
SaturationAdjustmentRed | 0 |
SaturationAdjustmentYellow | 0 |
ScaleFactor35efl | 1.1 |
SceneCaptureType | Standard |
SensitivityType | Unknown |
SerialNumber | 230101479 |
Shadows | 5 |
ShadowTint | 0 |
SharpenDetail | 25 |
SharpenEdgeMasking | 0 |
SharpenRadius | +1.0 |
Sharpness | 25 |
ShutterSpeed | 1/2000 |
ShutterSpeedValue | 1/2000 |
SplitToningBalance | 0 |
SplitToningHighlightHue | 0 |
SplitToningHighlightSaturation | 0 |
SplitToningShadowHue | 0 |
SplitToningShadowSaturation | 0 |
SubjectDistance | 8.34 m |
Tint | +40 |
ToneCurve | 0, 0, 32, 22, 64, 56, 128, 128, 192, 196, 255, 255 |
ToneCurveName | Medium Contrast |
Version | 6.2 |
Vibrance | 0 |
VignetteAmount | 0 |
WhiteBalance (2) | As Shot |
WhiteBalance | Auto |