Felt | Verdi |
AlreadyApplied | True |
Aperture | 14.0 |
ApertureValue | 14.0 |
Artist | Mr. Blickstrom Mats |
BitsPerSample | 8 |
BlueHue | 0 |
BlueSaturation | 0 |
Brightness | 0 |
By-line | Mr. Blickstrom Mats |
CameraProfile | Adobe Standard |
ChromaticAberrationB | +2 |
ChromaticAberrationR | -2 |
CircleOfConfusion | 0.019 mm |
Clarity | 0 |
ColorComponents | 3 |
ColorNoiseReduction | 11 |
ColorTemperature | 6550 |
Contrast | +50 |
ConvertToGrayscale | False |
CreateDate (1) | 2009:12:31 14:37:51.00+01:00 |
CreateDate | 2009:12:31 14:37:51 |
Creator | Mr. Blickstrom Mats |
CreatorTool | Adobe Photoshop Lightroom |
CropAngle | -0.651362 |
CropBottom | 0.909112 |
CropHeight | 2723 |
CropLeft | 0.164946 |
CropRight | 0.932655 |
CropTop | 0.134313 |
CropUnit | pixels |
CropWidth | 3949 |
CustomRendered | Normal |
DateTimeDigitized | 2009:12:31 14:37:51.00+01:00 |
DateTimeOriginal (1) | 2009:12:31 14:37:51.00+01:00 |
DateTimeOriginal | 2009:12:31 14:37:51 |
Defringe | 0 |
DOF | inf (0.68 m - inf) |
ExifImageHeight | 2723 |
ExifImageWidth | 3949 |
Exposure | +0.95 |
ExposureCompensation | 0 |
ExposureMode | Manual |
ExposureProgram | Manual |
ExposureTime | 1/125 |
FillLight | 0 |
Firmware | 1.1.0 |
Flash | Off, Did not fire |
FlashCompensation | 0 |
FlashFired | False |
FlashFunction | False |
FlashMode | Off |
FlashRedEyeMode | False |
FlashReturn | No return detection |
FNumber | 14.0 |
FocalLength | 18.0 mm |
FocalLength35efl | 18.0 mm (35 mm equivalent: 28.3 mm) |
FOV | 65.0 deg |
GreenHue | 0 |
GreenSaturation | 0 |
HasCrop | True |
HasSettings | True |
HighlightRecovery | 0 |
HueAdjustmentAqua | 0 |
HueAdjustmentBlue | 0 |
HueAdjustmentGreen | 0 |
HueAdjustmentMagenta | 0 |
HueAdjustmentOrange | 0 |
HueAdjustmentPurple | 0 |
HueAdjustmentRed | 0 |
HueAdjustmentYellow | 0 |
HyperfocalDistance | 1.21 m |
ImageHeight | 2723 |
ImageNumber | 0 |
ImageSize | 3949x2723 |
ImageWidth | 3949 |
ISO | 800 |
Lens | 10-20mm |
LensID (1) | 137 |
LensID | Sigma 10-20mm f/3.5 EX DC HSM |
LensInfo | 10-20mm f/? |
LightValue | 11.6 |
LuminanceAdjustmentAqua | 0 |
LuminanceAdjustmentBlue | 0 |
LuminanceAdjustmentGreen | 0 |
LuminanceAdjustmentMagenta | 0 |
LuminanceAdjustmentOrange | 0 |
LuminanceAdjustmentPurple | 0 |
LuminanceAdjustmentRed | 0 |
LuminanceAdjustmentYellow | 0 |
LuminanceSmoothing | 67 |
Make | Canon |
MaxApertureValue | 3.5 |
Megapixels | 10.8 |
MeteringMode | Multi-segment |
Model | Canon EOS 7D |
ModifyDate (1) | 2010:02:21 22:35:27+01:00 |
ModifyDate | 2010:02:21 22:35:27 |
OwnerName | Blickstrom M Mats |
ParametricDarks | 0 |
ParametricHighlights | 0 |
ParametricHighlightSplit | 75 |
ParametricLights | -18 |
ParametricMidtoneSplit | 50 |
ParametricShadows | +76 |
ParametricShadowSplit | 25 |
PostCropVignetteAmount | 0 |
ProfileDescription | ProPhoto RGB |
RedHue | 0 |
RedSaturation | 0 |
Saturation | 0 |
SaturationAdjustmentAqua | 0 |
SaturationAdjustmentBlue | 0 |
SaturationAdjustmentGreen | 0 |
SaturationAdjustmentMagenta | 0 |
SaturationAdjustmentOrange | 0 |
SaturationAdjustmentPurple | 0 |
SaturationAdjustmentRed | 0 |
SaturationAdjustmentYellow | 0 |
ScaleFactor35efl | 1.6 |
SceneCaptureType | Standard |
SerialNumber | 280100965 |
Shadows | 3 |
ShadowTint | +2 |
SharpenDetail | 54 |
SharpenEdgeMasking | 65 |
SharpenRadius | +1.4 |
Sharpness | 112 |
ShutterSpeed | 1/125 |
ShutterSpeedValue | 1/125 |
SplitToningBalance | 0 |
SplitToningHighlightHue | 0 |
SplitToningHighlightSaturation | 0 |
SplitToningShadowHue | 0 |
SplitToningShadowSaturation | 0 |
SubjectDistance | 1.55 m |
Tint | +22 |
ToneCurve | 0, 0, 32, 22, 64, 56, 128, 128, 192, 196, 255, 255 |
ToneCurveName | Medium Contrast |
Version | 5.6 |
Vibrance | 0 |
VignetteAmount | 0 |
WhiteBalance (2) | As Shot |
WhiteBalance | Auto |