Felt | Verdi |
AlreadyApplied | True |
Aperture | 5.0 |
ApertureValue | 5.0 |
BitsPerSample | 8 |
BlueHue | 0 |
BlueSaturation | 0 |
Brightness | +100 |
CameraProfile | ACR 4.4 |
ChromaticAberrationB | 0 |
ChromaticAberrationR | 0 |
CircleOfConfusion | 0.019 mm |
Clarity | +65 |
ColorComponents | 1 |
ColorNoiseReduction | 25 |
ColorTemperature | 4701 |
Contrast | +40 |
ConvertToGrayscale | True |
CreateDate (1) | 2008:11:21 22:43:43.51+01:00 |
CreateDate | 2008:11:21 22:43:43 |
CreatorTool | Adobe Photoshop Lightroom |
CropAngle | 0.090123 |
CropBottom | 0.826494 |
CropHeight | 1698 |
CropLeft | 0.336675 |
CropRight | 0.991033 |
CropTop | 0.169908 |
CropUnit | pixels |
CropWidth | 2547 |
CustomRendered | Normal |
DateTimeDigitized | 2008:11:21 22:43:43.51+01:00 |
DateTimeOriginal (1) | 2008:11:21 22:43:43.51+01:00 |
DateTimeOriginal | 2008:11:21 22:43:43 |
Defringe | 0 |
ExifImageHeight | 1698 |
ExifImageWidth | 2547 |
Exposure | +0.35 |
ExposureCompensation | 0 |
ExposureMode | Manual |
ExposureProgram | Manual |
ExposureTime | 1/25 |
FillLight | 5 |
Firmware | 1.0.5 |
Flash | Off, Did not fire |
FlashCompensation | 0 |
FlashFired | False |
FlashFunction | False |
FlashMode | Off |
FlashRedEyeMode | False |
FlashReturn | No return detection |
FNumber | 5.0 |
FocalLength | 80.0 mm |
FocalLength35efl | 80.0 mm (35 mm equivalent: 129.5 mm) |
FOV | 15.8 deg |
GrayMixerAqua | -19 |
GrayMixerBlue | +7 |
GrayMixerGreen | -25 |
GrayMixerMagenta | +4 |
GrayMixerOrange | -16 |
GrayMixerPurple | +14 |
GrayMixerRed | -8 |
GrayMixerYellow | -20 |
GreenHue | 0 |
GreenSaturation | 0 |
HasCrop | True |
HasSettings | True |
HighlightRecovery | 13 |
HyperfocalDistance | 68.96 m |
ImageHeight | 1698 |
ImageNumber | 0 |
ImageSize | 2547x1698 |
ImageWidth | 2547 |
ISO | 1600 |
Keywords | Marit Larsen, akustisk, kick, konsert, live, pop |
Lens | EF28-135mm f/3.5-5.6 IS USM |
LensInfo | 28-135mm f/? |
LightValue | 5.3 |
LuminanceSmoothing | 0 |
Make | Canon |
MaxApertureValue | 5.0 |
Megapixels | 4.3 |
MeteringMode | Multi-segment |
Model | Canon EOS 40D |
ModifyDate (1) | 2009:03:13 22:21:01+01:00 |
ModifyDate | 2009:03:13 22:21:01 |
PaintCorrectionActive | true |
PaintCorrectionAmount | 1.000000 |
PaintCorrectionBrightness | 0.000000 |
PaintCorrectionClarity | 0.000000 |
PaintCorrectionContrast | 0.000000 |
PaintCorrectionExposure | -0.990000 |
PaintCorrectionHue | 0.000000 |
PaintCorrectionMaskCenterWeight | 0.000000 |
PaintCorrectionMaskFlow | 0.400000 |
PaintCorrectionMaskRadius | 0.109958 |
PaintCorrectionMaskValue | 1.000000 |
PaintCorrectionMaskWhat | Mask/Paint |
PaintCorrectionSaturation | 0.000000 |
PaintCorrectionSharpness | 0.000000 |
PaintCorrectionWhat | Correction |
ParametricDarks | +29 |
ParametricHighlights | -5 |
ParametricHighlightSplit | 75 |
ParametricLights | -1 |
ParametricMidtoneSplit | 50 |
ParametricShadows | +34 |
ParametricShadowSplit | 25 |
PostCropVignetteAmount | 0 |
ProfileDescription | sRGB IEC61966-2.1 |
Rating | 4 |
RedHue | 0 |
RedSaturation | 0 |
ScaleFactor35efl | 1.6 |
SceneCaptureType | Standard |
SerialNumber | 820513357 |
Shadows | 16 |
ShadowTint | 0 |
SharpenDetail | 25 |
SharpenEdgeMasking | 0 |
SharpenRadius | +1.0 |
Sharpness | 25 |
ShutterSpeed | 1/25 |
ShutterSpeedValue | 1/25 |
SplitToningBalance | -100 |
SplitToningHighlightHue | 40 |
SplitToningHighlightSaturation | 0 |
SplitToningShadowHue | 40 |
SplitToningShadowSaturation | 0 |
Subject | Marit Larsen, akustisk, kick, konsert, live, pop |
Tint | -73 |
ToneCurve | 0, 0, 32, 22, 64, 56, 128, 128, 192, 196, 255, 255 |
ToneCurveName | Medium Contrast |
Version | 5.3 |
VignetteAmount | -85 |
VignetteMidpoint | 57 |
WhiteBalance (2) | Custom |
WhiteBalance | Auto |