Felt | Verdi |
AlreadyApplied | True |
Aperture | 3.5 |
ApertureValue | 3.5 |
Artist | unknown |
BitsPerSample (1) | 8, 8, 8 |
BitsPerSample (2) | 8 8 8 |
BitsPerSample | 8 |
BlueHue | 0 |
BlueSaturation | 0 |
Brightness | +50 |
By-line | unknown |
CameraProfile | ACR 3.6 |
ChromaticAberrationB | 0 |
ChromaticAberrationR | 0 |
CircleOfConfusion | 0.019 mm |
ColorComponents | 3 |
ColorMode | RGB |
ColorNoiseReduction | 25 |
ColorSpace | sRGB |
ColorTemperature | 7500 |
Contrast | +49 |
ConvertToGrayscale | False |
CopyrightFlag | False |
CreateDate (1) | 2007:06:29 18:37:40+02:00 |
CreateDate | 2007:06:27 23:28:00 |
Creator | unknown |
CreatorTool | Adobe Photoshop CS2 Windows |
CropAngle | 0 |
CropBottom | 1 |
CropHeight | 2592 |
CropLeft | 0.047407 |
CropRight | 1 |
CropTop | 0 |
CropUnit | pixels |
CropWidth | 3704 |
CustomRendered | Normal |
DateTimeDigitized | 2007:06:27 23:28:00+02:00 |
DateTimeOriginal (1) | 2007:06:27 23:28:00+02:00 |
DateTimeOriginal | 2007:06:27 23:28:00 |
ExifImageHeight | 698 |
ExifImageWidth | 997 |
Exposure | 0.00 |
ExposureCompensation | 0 |
ExposureMode | Manual |
ExposureProgram | Manual |
ExposureTime | 1/160 |
FillLight | 14 |
Firmware | 1.0.5 |
Flash | Off, Did not fire |
FlashCompensation | -1.66666666666667 |
FlashFired | False |
FlashFunction | False |
FlashMode | Off |
FlashRedEyeMode | False |
FlashReturn | No return detection |
FNumber | 3.5 |
FocalLength | 21.0 mm |
FocalLength35efl | 21.0 mm (35 mm equivalent: 34.0 mm) |
Format | image/jpeg |
FOV | 55.8 deg |
GreenHue | 0 |
GreenSaturation | 0 |
HasCrop | True |
HasSettings | True |
HighlightRecovery | 9 |
HueAdjustmentAqua | 0 |
HueAdjustmentBlue | 0 |
HueAdjustmentGreen | 0 |
HueAdjustmentMagenta | 0 |
HueAdjustmentOrange | 0 |
HueAdjustmentPurple | 0 |
HueAdjustmentRed | 0 |
HueAdjustmentYellow | 0 |
HyperfocalDistance | 6.79 m |
ICCProfileName | sRGB IEC61966-2.1 |
ImageHeight (2) | 2592 |
ImageHeight | 698 |
ImageNumber | 96 |
ImageSize | 997x698 |
ImageWidth (2) | 3704 |
ImageWidth | 997 |
ISO | 800 |
Lens | EF-S18-55mm f/3.5-5.6 |
LensInfo | 18-55mm f/? |
LightValue | 7.9 |
LuminanceAdjustmentAqua | 0 |
LuminanceAdjustmentBlue | 0 |
LuminanceAdjustmentGreen | 0 |
LuminanceAdjustmentMagenta | 0 |
LuminanceAdjustmentOrange | 0 |
LuminanceAdjustmentPurple | 0 |
LuminanceAdjustmentRed | 0 |
LuminanceAdjustmentYellow | 0 |
LuminanceSmoothing | 18 |
Make | Canon |
MaxApertureValue | 3.5 |
Megapixels | 0.696 |
MeteringMode | Multi-segment |
Model | Canon EOS 400D DIGITAL |
ModifyDate (1) | 2007:06:29 18:37:40+02:00 |
ModifyDate | 2007:06:29 18:37:40 |
Orientation | Horizontal (normal) |
OwnerName | unknown |
ParametricDarks | -4 |
ParametricHighlights | 0 |
ParametricHighlightSplit | 75 |
ParametricLights | +4 |
ParametricMidtoneSplit | 50 |
ParametricShadows | 0 |
ParametricShadowSplit | 25 |
PhotometricInterpretation | RGB |
PlanarConfiguration | Chunky |
ProfileDescription | sRGB IEC61966-2.1 |
RedHue | 0 |
RedSaturation | 0 |
SamplesPerPixel | 3 |
Saturation | +13 |
SaturationAdjustmentAqua | 0 |
SaturationAdjustmentBlue | 0 |
SaturationAdjustmentGreen | 0 |
SaturationAdjustmentMagenta | 0 |
SaturationAdjustmentOrange | 0 |
SaturationAdjustmentPurple | 0 |
SaturationAdjustmentRed | 0 |
SaturationAdjustmentYellow | 0 |
ScaleFactor35efl | 1.6 |
SceneCaptureType | Standard |
SerialNumber | 1030594424 |
Shadows | 0 |
ShadowTint | 0 |
Sharpness | 51 |
ShutterSpeed | 1/160 |
ShutterSpeedValue | 1/160 |
Software | Adobe Photoshop CS2 Windows |
SplitToningBalance | 0 |
SplitToningHighlightHue | 0 |
SplitToningHighlightSaturation | 0 |
SplitToningShadowHue | 0 |
SplitToningShadowSaturation | 0 |
Tint | +10 |
ToneCurve | 0, 0, 32, 22, 64, 56, 128, 128, 192, 196, 255, 255 |
ToneCurveName | Medium Contrast |
URL_List | |
Version | 1.0 |
Vibrance | +13 |
VignetteAmount | 0 |
WhiteBalance (2) | Shade |
WhiteBalance | Manual |