Felt | Verdi |
AlreadyApplied | True |
Aperture | 5.0 |
ApertureValue | 5.0 |
Artist | Reidar Nygård |
BitsPerSample | 8 |
BlueHue | 0 |
BlueSaturation | 0 |
Brightness | +19 |
By-line | Reidar NygŒrd |
CameraProfile | ACR 3.6 |
ChromaticAberrationB | 0 |
ChromaticAberrationR | -33 |
CircleOfConfusion | 0.019 mm |
ColorComponents | 3 |
ColorMode | RGB |
ColorNoiseReduction | 20 |
ColorSpace | sRGB |
ColorTemperature | 6750 |
Contrast | +13 |
ConvertToGrayscale | False |
Copyright | All rights reserved |
CopyrightFlag | False |
CopyrightNotice | All rights reserved |
CreateDate (1) | 2007:03:12 12:46:48+01:00 |
CreateDate | 2007:01:22 11:29:57 |
Creator | Reidar Nygård |
CreatorAddress | Kjøpmannsgt. 8 |
CreatorCity | Trondheim |
CreatorCountry | Norway |
CreatorPostalCode | 7013 |
CreatorTool | Adobe Photoshop CS3 Macintosh |
CreatorWorkEmail | kontakt@konsulenten.no |
CreatorWorkTelephone | +4790060361 |
CreatorWorkURL | www.konsulenten.no |
CustomRendered | Normal |
DateTimeDigitized | 2007:01:22 11:29:57+01:00 |
DateTimeOriginal (1) | 2007:01:22 11:29:57+01:00 |
DateTimeOriginal | 2007:01:22 11:29:57 |
ExifImageHeight | 768 |
ExifImageWidth | 1152 |
Exposure | +2.70 |
ExposureCompensation | 0 |
ExposureMode | Auto |
ExposureProgram | Program AE |
ExposureTime | 1/50 |
FillLight | 0 |
Firmware | 1.0.4 |
Flash | Off, Did not fire |
FlashCompensation | 0 |
FlashFired | False |
FlashFunction | False |
FlashMode | Off |
FlashRedEyeMode | False |
FlashReturn | No return detection |
FNumber | 5.0 |
FocalLength | 17.0 mm |
FocalLength35efl | 17.0 mm (35 mm equivalent: 27.5 mm) |
Format | image/jpeg |
FOV | 66.4 deg |
GreenHue | 0 |
GreenSaturation | 0 |
HasCrop | False |
HasSettings | True |
Headline | RAW-course |
HighlightRecovery | 26 |
HueAdjustmentAqua | 0 |
HueAdjustmentBlue | 0 |
HueAdjustmentGreen | 0 |
HueAdjustmentMagenta | 0 |
HueAdjustmentOrange | 0 |
HueAdjustmentPurple | 0 |
HueAdjustmentRed | 0 |
HueAdjustmentYellow | 0 |
HyperfocalDistance | 3.11 m |
ICCProfileName | sRGB IEC61966-2.1 |
ImageHeight | 768 |
ImageNumber | 112 |
ImageSize | 1152x768 |
ImageWidth | 1152 |
ISO | 100 |
Lens | EF-S17-85mm f/4-5.6 IS USM |
LensInfo | 17-85mm f/? |
LightValue | 10.3 |
LuminanceAdjustmentAqua | 0 |
LuminanceAdjustmentBlue | 0 |
LuminanceAdjustmentGreen | 0 |
LuminanceAdjustmentMagenta | 0 |
LuminanceAdjustmentOrange | 0 |
LuminanceAdjustmentPurple | 0 |
LuminanceAdjustmentRed | 0 |
LuminanceAdjustmentYellow | 0 |
LuminanceSmoothing | 0 |
Make | Canon |
MaxApertureValue | 4.0 |
Megapixels | 0.885 |
MeteringMode | Multi-segment |
Model | Canon EOS 400D DIGITAL |
ModifyDate (1) | 2007:03:12 12:46:48+01:00 |
ModifyDate | 2007:03:12 12:46:48 |
Orientation | Horizontal (normal) |
OwnerName | unknown |
ParametricDarks | -30 |
ParametricHighlights | +38 |
ParametricHighlightSplit | 75 |
ParametricLights | +23 |
ParametricMidtoneSplit | 50 |
ParametricShadows | -12 |
ParametricShadowSplit | 25 |
ProfileDescription | sRGB IEC61966-2.1 |
Rating | 0 |
RawFileName | _MG_1287.CR2 |
RedHue | 0 |
RedSaturation | 0 |
Rights | All rights reserved |
Saturation | +26 |
SaturationAdjustmentAqua | 0 |
SaturationAdjustmentBlue | 0 |
SaturationAdjustmentGreen | 0 |
SaturationAdjustmentMagenta | 0 |
SaturationAdjustmentOrange | 0 |
SaturationAdjustmentPurple | 0 |
SaturationAdjustmentRed | 0 |
SaturationAdjustmentYellow | 0 |
ScaleFactor35efl | 1.6 |
SceneCaptureType | Standard |
SerialNumber | 330134960 |
Shadows | 3 |
ShadowTint | 0 |
Sharpness | 0 |
ShutterSpeed | 1/50 |
ShutterSpeedValue | 1/50 |
Software | Adobe Photoshop CS3 Macintosh |
SplitToningBalance | 0 |
SplitToningHighlightHue | 5 |
SplitToningHighlightSaturation | 0 |
SplitToningShadowHue | 0 |
SplitToningShadowSaturation | 0 |
TimeZoneOffset | 1 1 |
Tint | +4 |
ToneCurve | 0, 0, 32, 22, 64, 56, 128, 128, 192, 196, 255, 255 |
ToneCurveName | Medium Contrast |
URL_List | |
Version | 4.0 |
Vibrance | -23 |
VignetteAmount | 0 |
WhiteBalance (2) | As Shot |
WhiteBalance | Auto |