Felt | Verdi |
AlreadyApplied | True |
Aperture | 1.8 |
ApertureValue | 1.8 |
ApproximateFocusDistance | 4294967295 |
Artist | Bjornar Elvestad |
AutoLateralCA | 0 |
BitsPerSample | 8 |
Blacks2012 | +48 |
BlueHue | 0 |
BlueSaturation | 0 |
By-line | Bjornar Elvestad |
CameraProfile | Embedded |
CircleOfConfusion | 0.019 mm |
Clarity2012 | +75 |
ColorComponents | 3 |
ColorNoiseReduction | 0 |
ColorSpace | sRGB |
ColorTransform | YCbCr |
Contrast2012 | -43 |
ConvertToGrayscale | True |
Copyright | Fyr&Flamme |
CopyrightNotice | Fyr&Flamme |
CreateDate (1) | 2013:11:13 16:54:45.19 |
CreateDate | 2013:11:13 16:54:45 |
Creator | Bjornar Elvestad |
CreatorTool | Adobe Photoshop Lightroom Classic 7.4 (Macintosh) |
CropAngle | 0 |
CropBottom | 0.82846 |
CropConstrainToWarp | 0 |
CropLeft | 0.018121 |
CropRight | 1 |
CropTop | 0 |
CustomRendered | Normal |
DateCreated (1) | 2013:11:13 |
DateCreated | 2013:11:13 16:54:45.19 |
DateTimeOriginal | 2013:11:13 16:54:45 |
Dehaze | 0 |
DOF | inf (26.13 m - inf) |
Exposure2012 | +0.28 |
ExposureCompensation | -1/3 |
ExposureMode | Auto |
ExposureProgram | Aperture-priority AE |
ExposureTime | 1/200 |
Firmware | 2.0.3 |
Flash | Off, Did not fire |
FlashCompensation | 0 |
FNumber | 1.8 |
FocalLength | 30.0 mm |
FocalLength35efl | 30.0 mm (35 mm equivalent: 47.1 mm) |
Format | image/jpeg |
FOV | 41.8 deg |
GrainAmount | 0 |
GrayMixerAqua | 0 |
GrayMixerBlue | 0 |
GrayMixerGreen | 0 |
GrayMixerMagenta | 0 |
GrayMixerOrange | 0 |
GrayMixerPurple | 0 |
GrayMixerRed | 0 |
GrayMixerYellow | 0 |
GreenHue | 0 |
GreenSaturation | 0 |
HasCrop | True |
HasSettings | True |
Highlights2012 | -35 |
HyperfocalDistance | 26.13 m |
ImageHeight | 1080 |
ImageNumber | 0 |
ImageSize | 1920x1080 |
ImageWidth | 1920 |
IncrementalTemperature | 0 |
IncrementalTint | 0 |
ISO | 400 |
Lens | 30mm |
LensID (1) | 169 |
LensID | Sigma 30mm f/1.4 EX DC HSM |
LensInfo | 30mm f/? |
LensManualDistortionAmount | 0 |
LensModel | 30mm |
LensProfileEnable | 0 |
LensProfileSetup | LensDefaults |
LightValue | 7.3 |
LookAmount | 1.000000 |
LookCluster | Adobe |
LookGroup | B&W |
LookName | B&W 03 |
LookParametersClarity2012 | +8 |
LookParametersContrast2012 | +57 |
LookParametersConvertToGrayscale | True |
LookParametersLookTable | 62CE423BDCA099FE0B786CA01EB606B0 |
LookParametersProcessVersion | 10.0 |
LookParametersToneCurvePV2012 | 0, 0, 29, 25, 128, 128, 192, 196, 255, 255 |
LookParametersToneCurvePV2012Blue | 0, 0, 255, 255 |
LookParametersToneCurvePV2012Green | 0, 0, 255, 255 |
LookParametersToneCurvePV2012Red | 0, 0, 255, 255 |
LookParametersVersion | 10.4 |
LookSortName | B&W 03 |
LookSupportsMonochrome | false |
LuminanceSmoothing | 0 |
Make | Canon |
MaxApertureValue | 1.4 |
Megapixels | 2.1 |
MeteringMode | Center-weighted average |
Model | Canon EOS 7D |
ModifyDate (1) | 2018:08:20 04:13:54+02:00 |
ModifyDate | 2018:08:20 04:13:54 |
OverrideLookVignette | False |
OwnerName | Bjornar Elvestad |
ParametricDarks | 0 |
ParametricHighlights | 0 |
ParametricHighlightSplit | 75 |
ParametricLights | 0 |
ParametricMidtoneSplit | 50 |
ParametricShadows | 0 |
ParametricShadowSplit | 25 |
PerspectiveAspect | 0 |
PerspectiveHorizontal | 0 |
PerspectiveRotate | 0.0 |
PerspectiveScale | 100 |
PerspectiveUpright | 0 |
PerspectiveVertical | 0 |
PerspectiveX | 0.00 |
PerspectiveY | 0.00 |
PostCropVignetteAmount | 0 |
ProcessVersion | 10.0 |
ProfileDescription | sRGB IEC61966-2.1 |
Rating | 5 |
RawFileName | |
RecommendedExposureIndex | 400 |
RedHue | 0 |
RedSaturation | 0 |
Rights | Fyr&Flamme |
ScaleFactor35efl | 1.6 |
SceneCaptureType | Standard |
SensitivityType | Recommended Exposure Index |
SerialNumber | 0380309970 |
Shadows2012 | +13 |
ShadowTint | 0 |
SharpenDetail | 25 |
SharpenEdgeMasking | 0 |
SharpenRadius | +1.0 |
Sharpness | 0 |
ShutterSpeed | 1/200 |
ShutterSpeedValue | 1/200 |
Software | Adobe Photoshop Lightroom Classic 7.4 (Macintosh) |
SplitToningBalance | 0 |
SplitToningHighlightHue | 0 |
SplitToningHighlightSaturation | 0 |
SplitToningShadowHue | 0 |
SplitToningShadowSaturation | 0 |
ToneCurve | 0, 0, 255, 255 |
ToneCurveBlue | 0, 0, 255, 255 |
ToneCurveGreen | 0, 0, 255, 255 |
ToneCurveName | Linear |
ToneCurveName2012 | Linear |
ToneCurvePV2012 | 0, 0, 255, 255 |
ToneCurvePV2012Blue | 0, 0, 255, 255 |
ToneCurvePV2012Green | 0, 0, 255, 255 |
ToneCurvePV2012Red | 0, 0, 255, 255 |
ToneCurveRed | 0, 0, 255, 255 |
ToneMapStrength | 0 |
Version | 10.4 |
VignetteAmount | 0 |
WhiteBalance (1) | As Shot |
WhiteBalance | Auto |
Whites2012 | -23 |