Felt | Verdi |
AlreadyApplied | True |
Aperture | 9.0 |
ApertureValue | 9.0 |
ApproximateFocusDistance | 4294967295 |
AutoLateralCA | 0 |
AutoWhiteVersion | 134348800 |
BitsPerSample | 8 |
Blacks2012 | -31 |
BlueHue | 0 |
BlueSaturation | 0 |
CameraProfile | Adobe Standard |
CFAPattern | [Red,Green][Green,Blue] |
CircleOfConfusion | 0.020 mm |
Clarity2012 | +88 |
ColorComponents | 3 |
ColorNoiseReduction | 25 |
ColorNoiseReductionDetail | 50 |
ColorNoiseReductionSmoothness | 50 |
ColorTemperature | 4850 |
ColorTransform | YCbCr |
Contrast | Normal |
Contrast2012 | +74 |
ConvertToGrayscale | False |
CreateDate (1) | 2009:10:04 19:37:42.93+01:00 |
CreateDate | 2009:10:04 19:37:42 |
CreatorTool | Adobe Photoshop Lightroom 5.7.1 (Windows) |
CropAngle | 0.52822 |
CropBottom | 1 |
CropConstrainToWarp | 0 |
CropLeft | 0.009865 |
CropRight | 0.990135 |
CropTop | 0 |
CustomRendered | Normal |
DateCreated (1) | 2009:10:04 |
DateCreated | 2009:10:04 19:37:42.93+01:00 |
DateTimeOriginal | 2009:10:04 19:37:42 |
DefringeGreenAmount | 0 |
DefringeGreenHueHi | 60 |
DefringeGreenHueLo | 40 |
DefringePurpleAmount | 0 |
DefringePurpleHueHi | 70 |
DefringePurpleHueLo | 30 |
DigitalZoomRatio | 1 |
DOF | inf (9.78 m - inf) |
Exposure2012 | -0.71 |
ExposureCompensation | -1 |
ExposureMode | Manual |
ExposureProgram | Manual |
ExposureTime | 1/125 |
Flash | No Flash |
FNumber | 9.0 |
FocalLength | 42.0 mm |
FocalLength35efl | 42.0 mm (35 mm equivalent: 63.0 mm) |
FocalLengthIn35mmFormat | 63 mm |
Format | image/jpeg |
FOV | 31.9 deg |
GainControl | None |
GradientBasedCorrActive | true |
GradientBasedCorrAmount | 1.000000 |
GradientBasedCorrBrightness | 0.000000 |
GradientBasedCorrClarity2012 | 0.000000 |
GradientBasedCorrContrast2012 | 0.000000 |
GradientBasedCorrDefringe | 0.000000 |
GradientBasedCorrExposure2012 | 0.034500 |
GradientBasedCorrHighlights2012 | 0.000000 |
GradientBasedCorrHue | 0.000000 |
GradientBasedCorrLuminanceNoise | 0.000000 |
GradientBasedCorrMaskFullX | 0.501398 |
GradientBasedCorrMaskFullY | 0.333288 |
GradientBasedCorrMaskValue | 1.000000 |
GradientBasedCorrMaskWhat | Mask/Gradient |
GradientBasedCorrMaskZeroX | 0.495813 |
GradientBasedCorrMaskZeroY | 1.001390 |
GradientBasedCorrMoire | 0.000000 |
GradientBasedCorrSaturation (1) | 0.250000 |
GradientBasedCorrSaturation | 0.000000 |
GradientBasedCorrShadows2012 | 0.000000 |
GradientBasedCorrSharpness | 0.000000 |
GradientBasedCorrTemperature | 0.000000 |
GradientBasedCorrTint | 0.000000 |
GradientBasedCorrWhat | Correction |
GrainAmount | 0 |
GreenHue | 0 |
GreenSaturation | 0 |
HasCrop | True |
HasExtendedXMP | DC7192448265DBDFB0F7197027F03172 |
HasSettings | True |
Highlights2012 | -48 |
HueAdjustmentAqua | 0 |
HueAdjustmentBlue | -4 |
HueAdjustmentGreen | 0 |
HueAdjustmentMagenta | 0 |
HueAdjustmentOrange | 0 |
HueAdjustmentPurple | 0 |
HueAdjustmentRed | 0 |
HueAdjustmentYellow | 0 |
HyperfocalDistance | 9.78 m |
ImageHeight | 2809 |
ImageNumber | 5130 |
ImageSize | 4229x2809 |
ImageWidth | 4229 |
ISO | 100 |
Lens | 18.0-200.0 mm f/3.5-5.6 |
LensID (1) | 139 |
LensID | AF-S DX VR Zoom-Nikkor 18-200mm f/3.5-5.6G IF-ED [II] or AF-S DX VR Zoom-Nikkor 18-200mm f/3.5-5.6G IF-ED |
LensInfo | 18-200mm f/3.5-5.6 |
LensManualDistortionAmount | 0 |
LensModel | 18.0-200.0 mm f/3.5-5.6 |
LensProfileEnable | 0 |
LensProfileSetup | LensDefaults |
LightSource | Unknown |
LightValue | 13.3 |
LuminanceAdjustmentAqua | 0 |
LuminanceAdjustmentBlue | -24 |
LuminanceAdjustmentGreen | 0 |
LuminanceAdjustmentMagenta | 0 |
LuminanceAdjustmentOrange | -29 |
LuminanceAdjustmentPurple | 0 |
LuminanceAdjustmentRed | 0 |
LuminanceAdjustmentYellow | -71 |
LuminanceSmoothing | 0 |
Make | NIKON CORPORATION |
MaxApertureValue | 4.4 |
Megapixels | 11.9 |
MeteringMode | Center-weighted average |
Model | NIKON D300 |
ModifyDate (1) | 2015:09:19 13:56:39+01:00 |
ModifyDate | 2015:09:19 13:56:39 |
PaintCorrectionActive | true |
PaintCorrectionAmount | 1.000000 |
PaintCorrectionBrightness | 0.000000 |
PaintCorrectionClarity2012 (1) | 0.000000 |
PaintCorrectionClarity2012 | 0.425290 |
PaintCorrectionContrast2012 (2) | 0.000000 |
PaintCorrectionContrast2012 | 0.287360 |
PaintCorrectionDefringe | 0.000000 |
PaintCorrectionExposure2012 (1) | 0.379250 |
PaintCorrectionExposure2012 (2) | -0.471250 |
PaintCorrectionExposure2012 (6) | 0.000000 |
PaintCorrectionExposure2012 | 0.402250 |
PaintCorrectionHighlights2012 (3) | 0.000000 |
PaintCorrectionHighlights2012 | -1.000000 |
PaintCorrectionHue | 0.000000 |
PaintCorrectionLuminanceNoise | 0.000000 |
PaintCorrectionMaskCenterWeight (93) | 0.000000 |
PaintCorrectionMaskCenterWeight | 0.478710 |
PaintCorrectionMaskFlow (1) | 0.161209 |
PaintCorrectionMaskFlow (100) | 0.210526 |
PaintCorrectionMaskFlow (101) | 0.015429 |
PaintCorrectionMaskFlow (102) | 0.220820 |
PaintCorrectionMaskFlow (103) | 0.607780 |
PaintCorrectionMaskFlow (105) | 0.278107 |
PaintCorrectionMaskFlow (107) | 0.225882 |
PaintCorrectionMaskFlow (108) | 0.240741 |
PaintCorrectionMaskFlow (109) | 0.633870 |
PaintCorrectionMaskFlow (11) | 0.679096 |
PaintCorrectionMaskFlow (111) | 0.086721 |
PaintCorrectionMaskFlow (112) | 0.370126 |
PaintCorrectionMaskFlow (113) | 0.429530 |
PaintCorrectionMaskFlow (114) | 0.155405 |
PaintCorrectionMaskFlow (116) | 0.194647 |
PaintCorrectionMaskFlow (117) | 0.435572 |
PaintCorrectionMaskFlow (118) | 0.022989 |
PaintCorrectionMaskFlow (12) | 0.447353 |
PaintCorrectionMaskFlow (120) | 0.557114 |
PaintCorrectionMaskFlow (122) | 0.366534 |
PaintCorrectionMaskFlow (125) | 0.066298 |
PaintCorrectionMaskFlow (126) | 0.007767 |
PaintCorrectionMaskFlow (127) | 0.183757 |
PaintCorrectionMaskFlow (13) | 0.576960 |
PaintCorrectionMaskFlow (15) | 0.477816 |
PaintCorrectionMaskFlow (19) | 0.792814 |
PaintCorrectionMaskFlow (20) | 0.696449 |
PaintCorrectionMaskFlow (21) | 0.744376 |
PaintCorrectionMaskFlow (22) | 0.734637 |
PaintCorrectionMaskFlow (23) | 0.453097 |
PaintCorrectionMaskFlow (24) | 0.250382 |
PaintCorrectionMaskFlow (25) | 0.045070 |
PaintCorrectionMaskFlow (26) | 0.517647 |
PaintCorrectionMaskFlow (27) | 0.651827 |
PaintCorrectionMaskFlow (28) | 0.205293 |
PaintCorrectionMaskFlow (29) | 0.387597 |
PaintCorrectionMaskFlow (3) | 0.099911 |
PaintCorrectionMaskFlow (32) | 0.143590 |
PaintCorrectionMaskFlow (33) | 0.578871 |
PaintCorrectionMaskFlow (34) | 0.726496 |
PaintCorrectionMaskFlow (35) | 0.526870 |
PaintCorrectionMaskFlow (36) | 0.304161 |
PaintCorrectionMaskFlow (38) | 0.689173 |
PaintCorrectionMaskFlow (40) | 0.783784 |
PaintCorrectionMaskFlow (41) | 0.407547 |
PaintCorrectionMaskFlow (44) | 0.299928 |
PaintCorrectionMaskFlow (45) | 0.533611 |
PaintCorrectionMaskFlow (46) | 0.377210 |
PaintCorrectionMaskFlow (47) | 0.571149 |
PaintCorrectionMaskFlow (48) | 0.512931 |
PaintCorrectionMaskFlow (49) | 0.529134 |
PaintCorrectionMaskFlow (5) | 0.336552 |
PaintCorrectionMaskFlow (50) | 0.007944 |
PaintCorrectionMaskFlow (51) | 0.807571 |
PaintCorrectionMaskFlow (52) | 0.830753 |
PaintCorrectionMaskFlow (54) | 0.362909 |
PaintCorrectionMaskFlow (55) | 0.080000 |
PaintCorrectionMaskFlow (6) | 0.112775 |
PaintCorrectionMaskFlow (60) | 0.235842 |
PaintCorrectionMaskFlow (61) | 0.282561 |
PaintCorrectionMaskFlow (63) | 0.189233 |
PaintCorrectionMaskFlow (64) | 0.804857 |
PaintCorrectionMaskFlow (66) | 0.677804 |
PaintCorrectionMaskFlow (67) | 0.841454 |
PaintCorrectionMaskFlow (68) | 0.423385 |
PaintCorrectionMaskFlow (71) | 0.648923 |
PaintCorrectionMaskFlow (73) | 0.706935 |
PaintCorrectionMaskFlow (80) | 0.455934 |
PaintCorrectionMaskFlow (87) | 1.000000 |
PaintCorrectionMaskFlow (9) | 0.273606 |
PaintCorrectionMaskFlow (91) | 0.037807 |
PaintCorrectionMaskFlow (92) | 0.030447 |
PaintCorrectionMaskFlow (94) | 0.059314 |
PaintCorrectionMaskFlow (95) | 0.052239 |
PaintCorrectionMaskFlow (97) | 0.125326 |
PaintCorrectionMaskFlow | 0.295652 |
PaintCorrectionMaskRadius (111) | 0.010255 |
PaintCorrectionMaskRadius (35) | 0.109897 |
PaintCorrectionMaskRadius (49) | 0.049121 |
PaintCorrectionMaskRadius (85) | 0.015183 |
PaintCorrectionMaskRadius (99) | 0.042084 |
PaintCorrectionMaskRadius | 0.088660 |
PaintCorrectionMaskValue | 1.000000 |
PaintCorrectionMaskWhat | Mask/Paint |
PaintCorrectionMoire | 0.000000 |
PaintCorrectionSaturation (9) | 0.250000 |
PaintCorrectionSaturation | 0.000000 |
PaintCorrectionShadows2012 (5) | 0.000000 |
PaintCorrectionShadows2012 | 0.632180 |
PaintCorrectionSharpness | 0.000000 |
PaintCorrectionTemperature | 0.000000 |
PaintCorrectionTint | 0.000000 |
PaintCorrectionWhat | Correction |
ParametricDarks | 0 |
ParametricHighlights | 0 |
ParametricHighlightSplit | 75 |
ParametricLights | 0 |
ParametricMidtoneSplit | 50 |
ParametricShadows | 0 |
ParametricShadowSplit | 25 |
PerspectiveAspect | 0 |
PerspectiveHorizontal | 0 |
PerspectiveRotate | 0.0 |
PerspectiveScale | 100 |
PerspectiveUpright | 0 |
PerspectiveVertical | 0 |
PostCropVignetteAmount | 0 |
ProcessVersion | 6.7 |
ProfileDescription | ProPhoto RGB |
RedHue | 0 |
RedSaturation | 0 |
Saturation (1) | -2 |
Saturation | Normal |
SaturationAdjustmentAqua | 0 |
SaturationAdjustmentBlue | +2 |
SaturationAdjustmentGreen | 0 |
SaturationAdjustmentMagenta | 0 |
SaturationAdjustmentOrange | +31 |
SaturationAdjustmentPurple | 0 |
SaturationAdjustmentRed | 0 |
SaturationAdjustmentYellow | +38 |
ScaleFactor35efl | 1.5 |
SceneCaptureType | Standard |
SceneType | Directly photographed |
SensingMethod | One-chip color area |
SerialNumber | 4077038 |
Shadows2012 | +62 |
ShadowTint | 0 |
SharpenDetail | 50 |
SharpenEdgeMasking | 60 |
SharpenRadius | +1.5 |
Sharpness (1) | 59 |
Sharpness | Normal |
ShutterSpeed | 1/125 |
ShutterSpeedValue | 1/125 |
Software | Adobe Photoshop Lightroom 5.7.1 (Windows) |
SplitToningBalance | 0 |
SplitToningHighlightHue | 0 |
SplitToningHighlightSaturation | 0 |
SplitToningShadowHue | 0 |
SplitToningShadowSaturation | 0 |
SubjectDistance | 4294967295 m |
SubjectDistanceRange | Unknown |
Tint | +2 |
ToneCurve | 0, 0, 255, 255 |
ToneCurveBlue | 0, 0, 255, 255 |
ToneCurveGreen | 0, 0, 255, 255 |
ToneCurveName | Linear |
ToneCurveName2012 | Linear |
ToneCurvePV2012 | 0, 0, 255, 255 |
ToneCurvePV2012Blue | 0, 0, 255, 255 |
ToneCurvePV2012Green | 0, 0, 255, 255 |
ToneCurvePV2012Red | 0, 0, 255, 255 |
ToneCurveRed | 0, 0, 255, 255 |
Version | 8.7.1 |
Vibrance | +29 |
VignetteAmount | 0 |
WhiteBalance (1) | As Shot |
WhiteBalance | Auto |
Whites2012 | -17 |