Felt | Verdi |
AlreadyApplied | True |
Aperture | 4.0 |
ApertureValue | 4.0 |
ApproximateFocusDistance | 4.47 |
Artist | Hege Antonsen |
AutoLateralCA | 0 |
BitsPerSample | 8 |
Blacks2012 | +33 |
BlueHue | 0 |
BlueSaturation | 0 |
By-line | Hege Antonsen |
CameraProfile | Adobe Standard |
CircleOfConfusion | 0.017 mm |
Clarity2012 | 0 |
ColorComponents | 3 |
ColorNoiseReduction | 74 |
ColorNoiseReductionDetail | 24 |
ColorTemperature | 6550 |
ColorTransform | YCbCr |
Contrast2012 | +38 |
ConvertToGrayscale | True |
CopyrightFlag | True |
CreateDate (1) | 2015:07:31 12:19:16.00 |
CreateDate | 2015:07:31 12:19:16 |
Creator | Hege Antonsen |
CreatorTool | Adobe Photoshop Lightroom 4.4 (Macintosh) |
CreatorWorkEmail | 92655624 |
CropAngle | 0 |
CropBottom | 0.884417 |
CropConstrainToWarp | 1 |
CropHeight | 2026 |
CropLeft | 0.265919 |
CropRight | 0.821221 |
CropTop | 0.329115 |
CropUnit | pixels |
CropWidth | 3039 |
CustomRendered | Normal |
DateCreated (1) | 2015:07:31 |
DateCreated | 2015:07:31 12:19:16.00 |
DateTimeOriginal | 2015:07:31 12:19:16 |
DOF | 0.74 m (4.13 - 4.87 m) |
Exposure2012 | +1.20 |
ExposureCompensation | 0 |
ExposureMode | Manual |
ExposureProgram | Manual |
ExposureTime | 1/4000 |
Firmware | 1.1.3 |
Flash | Off, Did not fire |
FlashCompensation | 0 |
FNumber | 4.0 |
FocalLength | 60.0 mm |
FocalLength35efl | 60.0 mm (35 mm equivalent: 108.0 mm) |
Format | image/jpeg |
FOV | 18.9 deg |
GrainAmount | 0 |
GrayMixerAqua | -100 |
GrayMixerBlue | +25 |
GrayMixerGreen | -31 |
GrayMixerMagenta | -31 |
GrayMixerOrange | -38 |
GrayMixerPurple | -21 |
GrayMixerRed | -33 |
GrayMixerYellow | +4 |
GreenHue | 0 |
GreenSaturation | 0 |
HasCrop | True |
HasSettings | True |
Highlights2012 | -47 |
HyperfocalDistance | 53.93 m |
ImageHeight | 2026 |
ImageNumber | 0 |
ImageSize | 3039x2026 |
ImageWidth | 3039 |
ISO | 400 |
Keywords | Farmor, Fedje |
Lens | EF24-105mm f/4L IS USM |
LensID (1) | 237 |
LensID | Canon EF 24-105mm f/4L IS USM |
LensInfo | 24-105mm f/? |
LensManualDistortionAmount | 0 |
LensModel | EF24-105mm f/4L IS USM |
LensProfileChromaticAberrationScale | 100 |
LensProfileDistortionScale | 100 |
LensProfileEnable | 0 |
LensProfileFilename | Canon EOS-1Ds Mark III (Canon EF 24-105mm f4 L IS USM) - RAW.lcp |
LensProfileName | Adobe (Canon EF 24-105mm f/4 L IS USM) |
LensProfileSetup | LensDefaults |
LensProfileVignettingScale | 100 |
LensSerialNumber | 00001b428c |
LightValue | 14.0 |
LuminanceNoiseReductionContrast | 36 |
LuminanceNoiseReductionDetail | 30 |
LuminanceSmoothing | 61 |
Make | Canon |
Marked | True |
MaxApertureValue | 4.0 |
Megapixels | 6.2 |
MeteringMode | Partial |
Model | Canon EOS 6D |
ModifyDate (1) | 2015:07:31 19:33:35+02:00 |
ModifyDate | 2015:07:31 19:33:35 |
PaintCorrectionActive | true |
PaintCorrectionAmount | 1.000000 |
PaintCorrectionBrightness | 0.000000 |
PaintCorrectionClarity2012 | 0.000000 |
PaintCorrectionContrast2012 (3) | 1.000000 |
PaintCorrectionContrast2012 | 0.000000 |
PaintCorrectionDefringe | 0.000000 |
PaintCorrectionExposure2012 (1) | 0.056180 |
PaintCorrectionExposure2012 (3) | 0.000000 |
PaintCorrectionExposure2012 | 0.146067 |
PaintCorrectionHighlights2012 (1) | 0.303371 |
PaintCorrectionHighlights2012 (2) | 1.000000 |
PaintCorrectionHighlights2012 (4) | -1.000000 |
PaintCorrectionHighlights2012 | 0.000000 |
PaintCorrectionHue | 240.000000 |
PaintCorrectionLuminanceNoise | 0.000000 |
PaintCorrectionMaskCenterWeight (6) | 0.040891 |
PaintCorrectionMaskCenterWeight (8) | 0.151502 |
PaintCorrectionMaskCenterWeight | 0.000000 |
PaintCorrectionMaskFlow (7) | 0.728022 |
PaintCorrectionMaskFlow | 1.000000 |
PaintCorrectionMaskRadius (3) | 0.118428 |
PaintCorrectionMaskRadius (6) | 0.099885 |
PaintCorrectionMaskRadius (7) | 0.116297 |
PaintCorrectionMaskRadius (8) | 0.129049 |
PaintCorrectionMaskRadius | 0.030109 |
PaintCorrectionMaskValue (13) | 1.000000 |
PaintCorrectionMaskValue (3) | 0.747253 |
PaintCorrectionMaskValue | 0.000000 |
PaintCorrectionMaskWhat | Mask/Paint |
PaintCorrectionMoire | 0.000000 |
PaintCorrectionSaturation | 0.000000 |
PaintCorrectionShadows2012 (1) | 1.000000 |
PaintCorrectionShadows2012 (3) | -0.033708 |
PaintCorrectionShadows2012 (4) | -1.000000 |
PaintCorrectionShadows2012 | 0.000000 |
PaintCorrectionSharpness | 0.000000 |
PaintCorrectionTemperature | 0.000000 |
PaintCorrectionTint | 0.000000 |
PaintCorrectionWhat | Correction |
ParametricDarks | 0 |
ParametricHighlights | 0 |
ParametricHighlightSplit | 75 |
ParametricLights | 0 |
ParametricMidtoneSplit | 50 |
ParametricShadows | 0 |
ParametricShadowSplit | 25 |
PerspectiveHorizontal | 0 |
PerspectiveRotate | +1.6 |
PerspectiveScale | 100 |
PerspectiveVertical | 0 |
PostCropVignetteAmount | -40 |
PostCropVignetteFeather | 50 |
PostCropVignetteHighlightContrast | 0 |
PostCropVignetteMidpoint | 50 |
PostCropVignetteRoundness | 0 |
PostCropVignetteStyle | 1 |
ProcessVersion | 6.7 |
ProfileDescription | sRGB IEC61966-2.1 |
Rating | 1 |
RecommendedExposureIndex | 400 |
RedHue | 0 |
RedSaturation | 0 |
ScaleFactor35efl | 1.8 |
SceneCaptureType | Standard |
SensitivityType | Recommended Exposure Index |
SerialNumber | 045024001003 |
Shadows2012 | +18 |
ShadowTint | 0 |
SharpenDetail | 19 |
SharpenEdgeMasking | 2 |
SharpenRadius | +1.0 |
Sharpness | 80 |
ShutterSpeed | 1/4000 |
ShutterSpeedValue | 1/4000 |
Software | Adobe Photoshop Lightroom 4.4 (Macintosh) |
SplitToningBalance | 0 |
SplitToningHighlightHue | 0 |
SplitToningHighlightSaturation | 0 |
SplitToningShadowHue | 0 |
SplitToningShadowSaturation | 0 |
Subject | Farmor, Fedje |
Tint | +27 |
ToneCurveName2012 | Linear |
ToneCurvePV2012 | 0, 0, 255, 255 |
ToneCurvePV2012Blue | 0, 0, 255, 255 |
ToneCurvePV2012Green | 0, 0, 255, 255 |
ToneCurvePV2012Red | 0, 0, 255, 255 |
Version | 7.4 |
VignetteAmount | 0 |
WhiteBalance (1) | As Shot |
WhiteBalance | Auto |
Whites2012 | +49 |