Felt | Verdi |
AlreadyApplied | True |
Aperture | 7.1 |
ApertureValue | 7.1 |
AutoLateralCA | 0 |
AutoWhiteVersion | 134348800 |
BitsPerSample | 8 |
Blacks2012 | -26 |
BlueHue | 0 |
BlueSaturation | 0 |
BrightnessValue | 3.99765625 |
CameraProfile | Adobe Standard |
CircleOfConfusion | 0.030 mm |
Clarity2012 | +69 |
ColorComponents | 3 |
ColorNoiseReduction | 25 |
ColorNoiseReductionDetail | 50 |
ColorNoiseReductionSmoothness | 50 |
ColorSpace | sRGB |
ColorTemperature | 5452 |
ColorTransform | YCbCr |
Contrast | High |
Contrast2012 | +64 |
ConvertToGrayscale | False |
CreateDate | 2015:02:14 14:11:18 |
CreatorTool | Adobe Photoshop Lightroom 5.0 (Windows) |
CropAngle | 0 |
CropBottom | 0.922 |
CropConstrainToWarp | 0 |
CropLeft | 0 |
CropRight | 1 |
CropTop | 0.078 |
CustomRendered | Normal |
DateCreated (1) | 2015:02:14 |
DateCreated | 2015:02:14 14:11:18 |
DateTimeOriginal | 2015:02:14 14:11:18 |
DefringeGreenAmount | 0 |
DefringeGreenHueHi | 60 |
DefringeGreenHueLo | 40 |
DefringePurpleAmount | 0 |
DefringePurpleHueHi | 70 |
DefringePurpleHueLo | 30 |
DigitalZoomRatio | 1 |
Exposure2012 | +0.71 |
ExposureCompensation | 0 |
ExposureMode | Auto |
ExposureProgram | Aperture-priority AE |
ExposureTime | 1/60 |
Flash | Off, Did not fire |
FNumber | 7.1 |
FocalLength | 29.0 mm |
FocalLength35efl | 29.0 mm (35 mm equivalent: 29.0 mm) |
FocalLengthIn35mmFormat | 29 mm |
Format | image/jpeg |
FOV | 63.7 deg |
GrainAmount | 0 |
GreenHue | 0 |
GreenSaturation | 0 |
HasCrop | True |
HasSettings | True |
Highlights2012 | -60 |
HueAdjustmentAqua | +67 |
HueAdjustmentBlue | +51 |
HueAdjustmentGreen | +58 |
HueAdjustmentMagenta | +9 |
HueAdjustmentOrange | +38 |
HueAdjustmentPurple | +58 |
HueAdjustmentRed | -9 |
HueAdjustmentYellow | +7 |
HyperfocalDistance | 3.94 m |
ImageHeight | 3376 |
ImageSize | 6000x3376 |
ImageWidth | 6000 |
ISO | 640 |
Lens | FE 28-70mm F3.5-5.6 OSS |
LensDistortInfo | 33219/32768 -55837932/1073741824 25789510/1073741824 -4254301/1073741824 |
LensInfo | 28-70mm f/3.5-5.6 |
LensManualDistortionAmount | 0 |
LensModel | FE 28-70mm F3.5-5.6 OSS |
LensProfileEnable | 0 |
LensProfileSetup | LensDefaults |
LightSource | Other |
LightValue | 8.9 |
LuminanceAdjustmentAqua | +33 |
LuminanceAdjustmentBlue | +51 |
LuminanceAdjustmentGreen | +24 |
LuminanceAdjustmentMagenta | +27 |
LuminanceAdjustmentOrange | +51 |
LuminanceAdjustmentPurple | +16 |
LuminanceAdjustmentRed | +18 |
LuminanceAdjustmentYellow | +2 |
LuminanceNoiseReductionContrast | 80 |
LuminanceNoiseReductionDetail | 67 |
LuminanceSmoothing | 54 |
Make | SONY |
MaxApertureValue | 3.5 |
Megapixels | 20.3 |
MeteringMode | Spot |
Model | ILCE-7 |
ModifyDate (1) | 2015:02:15 14:16:47+01:00 |
ModifyDate | 2015:02:15 14:16:47 |
ParametricDarks | 0 |
ParametricHighlights | 0 |
ParametricHighlightSplit | 75 |
ParametricLights | 0 |
ParametricMidtoneSplit | 50 |
ParametricShadows | 0 |
ParametricShadowSplit | 25 |
PerspectiveAspect | 0 |
PerspectiveHorizontal | 0 |
PerspectiveRotate | 0.0 |
PerspectiveScale | 100 |
PerspectiveUpright | 0 |
PerspectiveVertical | 0 |
PostCropVignetteAmount | 0 |
ProcessVersion | 6.7 |
ProfileDescription | sRGB IEC61966-2.1 |
RecommendedExposureIndex | 640 |
RedHue | 0 |
RedSaturation | 0 |
Saturation (1) | +69 |
Saturation | High |
SaturationAdjustmentAqua | +22 |
SaturationAdjustmentBlue | +80 |
SaturationAdjustmentGreen | +84 |
SaturationAdjustmentMagenta | +56 |
SaturationAdjustmentOrange | +38 |
SaturationAdjustmentPurple | +78 |
SaturationAdjustmentRed | +36 |
SaturationAdjustmentYellow | +31 |
ScaleFactor35efl | 1.0 |
SceneCaptureType | Standard |
SceneType | Directly photographed |
SensitivityType | Recommended Exposure Index |
Shadows2012 | -12 |
ShadowTint | 0 |
SharpenDetail | 62 |
SharpenEdgeMasking | 29 |
SharpenRadius | +1.6 |
Sharpness (1) | 150 |
Sharpness | Hard |
ShutterSpeed | 1/60 |
ShutterSpeedValue | 1/60 |
Software | Adobe Photoshop Lightroom 5.0 (Windows) |
SplitToningBalance | 0 |
SplitToningHighlightHue | 274 |
SplitToningHighlightSaturation | 8 |
SplitToningShadowHue | 189 |
SplitToningShadowSaturation | 11 |
Tint | +11 |
ToneCurveName2012 | Linear |
ToneCurvePV2012 | 0, 0, 255, 255 |
ToneCurvePV2012Blue | 0, 0, 255, 255 |
ToneCurvePV2012Green | 0, 0, 255, 255 |
ToneCurvePV2012Red | 0, 0, 255, 255 |
Version | 8.2 |
Vibrance | +24 |
VignetteAmount | 0 |
WhiteBalance (1) | Custom |
WhiteBalance | Manual |
Whites2012 | -36 |