Felt | Verdi |
2014-06-15T14:28:36+02:00 File edit 7uy55 22.tif saved
2014-06-15T14:33:11+02:00 File 887c, abstract.tif saved
2014-06-15T14:36:16+02:00 File edit 7hyy and conta.tif saved
2014-06-15T14:36:51+02:00 File _20140414_1253ACD6B7E0F3024B1BBB2EE17937354864.psb saved
2014-06-15T14:43:26+02:00 File edit 5555x.tif saved
2014-06-15T14:44:02+02:00 File edit 66.tif saved
2014-06-15T14:47:02+02:00 File 33309f, abstract.tif saved
2014-06-15T14:47:12+02:00 File _edit 5555x181C6DFC57A294B6B4D5C234A12085A4.psb saved
2014-06-15T14:57:12+02:00 File _edit 5555x181C6DFC57A294B6B4D5C234A12085A4.psb saved
2014-06-15T14:59:01+02:00 File 77307, abstract.tif saved
2014-06-15T15:00:59+02:00 File 77307, abstract.jpg saved
2014-06-15T15:02:32+02:00 File 77307, abstract.jpg saved
AlreadyApplied | True |
Artist | Elisabeth Broch |
AutoLateralCA | 1 |
AutoWhiteVersion | 134348800 |
BitsPerSample | 8 |
Blacks2012 | -62 |
BlueHue | 0 |
BlueSaturation | 0 |
BrightnessValue | 2.915625 |
By-line | Elisabeth Broch |
CameraProfile | Embedded |
Clarity2012 | 0 |
ColorComponents | 3 |
ColorMode | RGB |
ColorNoiseReduction | 0 |
ColorSpace | sRGB |
ColorTransform | YCbCr |
Contrast | Normal |
Contrast2012 | -18 |
ConvertToGrayscale | False |
Copyright | www.elisabethbroch.zenfolio.com |
CopyrightFlag | True |
CopyrightNotice | www.elisabethbroch.zenfolio.com |
CreateDate | 2014:04:14 11:45:46 |
Creator | Elisabeth Broch |
CreatorTool | Image Data Converter |
CustomRendered | Normal |
DateCreated (1) | 2014:04:14 |
DateCreated | 2014:04:14 11:45:46 |
DateTimeOriginal | 2014:04:14 11:45:46 |
DefringeGreenAmount | 0 |
DefringeGreenHueHi | 60 |
DefringeGreenHueLo | 40 |
DefringePurpleAmount | 0 |
DefringePurpleHueHi | 70 |
DefringePurpleHueLo | 30 |
DigitalZoomRatio | 1 |
ExifImageHeight | 792 |
ExifImageWidth | 1200 |
Exposure2012 | 0.00 |
ExposureCompensation | 0 |
ExposureMode | Auto |
ExposureProgram | Shutter speed priority AE |
ExposureTime | 1/80 |
Flash | Off, Did not fire |
Format | image/jpeg |
GrainAmount | 0 |
GreenHue | 0 |
GreenSaturation | 0 |
HasCrop | False |
HasSettings | True |
Highlights2012 | -33 |
HueAdjustmentAqua | 0 |
HueAdjustmentBlue | 0 |
HueAdjustmentGreen | 0 |
HueAdjustmentMagenta | 0 |
HueAdjustmentOrange | 0 |
HueAdjustmentPurple | 0 |
HueAdjustmentRed | 0 |
HueAdjustmentYellow | 0 |
ICCProfileName | sRGB IEC61966-2.1 |
ImageHeight | 792 |
ImageSize | 1200x792 |
ImageWidth | 1200 |
IncrementalTemperature | 0 |
IncrementalTint | 0 |
ISO | 100 |
Lens | ---- |
LensManualDistortionAmount | 0 |
LensModel | ---- |
LensProfileEnable | 0 |
LensProfileSetup | LensDefaults |
LightSource | Unknown |
LuminanceAdjustmentAqua | 0 |
LuminanceAdjustmentBlue | 0 |
LuminanceAdjustmentGreen | 0 |
LuminanceAdjustmentMagenta | 0 |
LuminanceAdjustmentOrange | 0 |
LuminanceAdjustmentPurple | 0 |
LuminanceAdjustmentRed | 0 |
LuminanceAdjustmentYellow | 0 |
LuminanceSmoothing | 0 |
Make | SONY |
Marked | True |
MaxApertureValue | 1.0 |
Megapixels | 0.950 |
MeteringMode | Multi-segment |
Model | ILCE-7R |
ModifyDate (1) | 2014:06:15 15:02:32+02:00 |
ModifyDate | 2014:06:15 15:02:32 |
ObjectName | 77307, abstract |
Orientation | Horizontal (normal) |
PaintCorrectionActive | true |
PaintCorrectionAmount | 1.000000 |
PaintCorrectionBrightness | 0.000000 |
PaintCorrectionClarity | 0.000000 |
PaintCorrectionClarity2012 | 0.130000 |
PaintCorrectionContrast | 0.000000 |
PaintCorrectionContrast2012 (1) | 0.070000 |
PaintCorrectionContrast2012 | -0.020000 |
PaintCorrectionDefringe | -0.100000 |
PaintCorrectionExposure | 0.000000 |
PaintCorrectionExposure2012 (2) | 0.175000 |
PaintCorrectionExposure2012 (4) | 0.087500 |
PaintCorrectionExposure2012 | 0.012500 |
PaintCorrectionHighlights2012 (2) | -0.030000 |
PaintCorrectionHighlights2012 | 0.060000 |
PaintCorrectionHue | 0.000000 |
PaintCorrectionLuminanceNoise (3) | 0.160000 |
PaintCorrectionLuminanceNoise (4) | 0.000000 |
PaintCorrectionLuminanceNoise | 0.150000 |
PaintCorrectionMaskCenterWeight | 0.001272 |
PaintCorrectionMaskFlow | 0.997455 |
PaintCorrectionMaskRadius (13) | 0.058225 |
PaintCorrectionMaskRadius (15) | 0.044854 |
PaintCorrectionMaskRadius (8) | 0.111708 |
PaintCorrectionMaskRadius | 0.232045 |
PaintCorrectionMaskValue | 0.280000 |
PaintCorrectionMaskWhat | Mask/Paint |
PaintCorrectionMoire | -0.060000 |
PaintCorrectionSaturation (1) | -0.350000 |
PaintCorrectionSaturation (3) | -0.230000 |
PaintCorrectionSaturation (9) | 0.030000 |
PaintCorrectionSaturation | 0.000000 |
PaintCorrectionShadows2012 (1) | 0.060000 |
PaintCorrectionShadows2012 | 0.000000 |
PaintCorrectionSharpness (3) | 0.180000 |
PaintCorrectionSharpness | 0.100000 |
PaintCorrectionTemperature | -0.100000 |
PaintCorrectionTint (3) | -0.260000 |
PaintCorrectionTint | 0.000000 |
PaintCorrectionWhat | Correction |
ParametricDarks | 0 |
ParametricHighlights | 0 |
ParametricHighlightSplit | 75 |
ParametricLights | 0 |
ParametricMidtoneSplit | 50 |
ParametricShadows | 0 |
ParametricShadowSplit | 25 |
PerspectiveAspect | 0 |
PerspectiveHorizontal | 0 |
PerspectiveRotate | 0.0 |
PerspectiveScale | 100 |
PerspectiveUpright | 0 |
PerspectiveVertical | 0 |
PhotographicSensitivity | 100 |
PostCropVignetteAmount | 0 |
ProcessVersion | 6.7 |
ProfileDescription | sRGB IEC61966-2.1 |
Rating | 0 |
RawFileName | 20140414_1253.TIF |
RecommendedExposureIndex | 100 |
RedHue | 0 |
RedSaturation | 0 |
Rights | www.elisabethbroch.zenfolio.com |
Saturation (1) | -9 |
Saturation | Normal |
SaturationAdjustmentAqua | 0 |
SaturationAdjustmentBlue | 0 |
SaturationAdjustmentGreen | 0 |
SaturationAdjustmentMagenta | 0 |
SaturationAdjustmentOrange | 0 |
SaturationAdjustmentPurple | 0 |
SaturationAdjustmentRed | -21 |
SaturationAdjustmentYellow | 0 |
SceneCaptureType | Standard |
SensitivityType | Recommended Exposure Index |
Shadows2012 | +14 |
ShadowTint | 0 |
SharpenDetail | 25 |
SharpenEdgeMasking | 15 |
SharpenRadius | +1.0 |
Sharpness (1) | 0 |
Sharpness | Normal |
ShutterSpeed | 1/80 |
ShutterSpeedValue | 1/80 |
Software | Adobe Photoshop CS6 (Macintosh) |
SplitToningBalance | 0 |
SplitToningHighlightHue | 0 |
SplitToningHighlightSaturation | 0 |
SplitToningShadowHue | 0 |
SplitToningShadowSaturation | 0 |
Title | 77307, abstract |
ToneCurve | 0, 0, 255, 255 |
ToneCurveBlue | 0, 0, 255, 255 |
ToneCurveGreen | 0, 0, 255, 255 |
ToneCurveName | Linear |
ToneCurveName2012 | Linear |
ToneCurvePV2012 | 0, 0, 255, 255 |
ToneCurvePV2012Blue | 0, 0, 255, 255 |
ToneCurvePV2012Green | 0, 0, 255, 255 |
ToneCurvePV2012Red | 0, 0, 255, 255 |
ToneCurveRed | 0, 0, 255, 255 |
URL_List | |
Version | 8.4 |
Vibrance | 0 |
VignetteAmount | 0 |
WhiteBalance (1) | As Shot |
WhiteBalance | Auto |
Whites2012 | -21 |