Felt | Verdi |
AlreadyApplied | True |
Aperture | 4.0 |
ApertureValue | 4.0 |
BitsPerSample | 8 |
BlueHue | 0 |
BlueSaturation | 0 |
Brightness | +50 |
CameraProfile | Adobe Standard |
ChromaticAberrationB | 0 |
ChromaticAberrationR | 0 |
CircleOfConfusion | 0.031 mm |
Clarity | 0 |
ColorComponents | 1 |
ColorNoiseReduction | 25 |
ColorTemperature | 5732 |
Contrast | +39 |
ConvertToGrayscale | False |
CreateDate (1) | 2013:07:15 00:38:22.36+02:00 |
CreateDate | 2013:07:15 00:38:22 |
CreatorTool | Adobe Photoshop Lightroom |
CropAngle | 1.75274 |
CropBottom | 0.943453 |
CropHeight | 3706 |
CropLeft | 0.04702 |
CropRight | 0.930666 |
CropTop | 0 |
CropUnit | pixels |
CropWidth | 5559 |
CustomRendered | Normal |
DateTimeDigitized | 2013:07:15 00:38:22.36+02:00 |
DateTimeOriginal (1) | 2013:07:15 00:38:22.36+02:00 |
DateTimeOriginal | 2013:07:15 00:38:22 |
Defringe | 0 |
DOF | 88.10 m (2.29 - 90.39 m) |
ExifImageHeight | 3706 |
ExifImageWidth | 5559 |
Exposure | -1.01 |
ExposureCompensation | 0 |
ExposureMode | Auto |
ExposureProgram | Program AE |
ExposureTime | 1/40 |
FillLight | 18 |
Firmware | 2.0.8 |
Flash | Off, Did not fire |
FlashCompensation | 0 |
FlashFired | False |
FlashFunction | False |
FlashMode | Off |
FlashRedEyeMode | False |
FlashReturn | No return detection |
FNumber | 4.0 |
FocalLength | 24.0 mm |
FocalLength35efl | 24.0 mm (35 mm equivalent: 23.4 mm) |
FOV | 75.1 deg |
GreenHue | 0 |
GreenSaturation | 0 |
HasCrop | True |
HasSettings | True |
HighlightRecovery | 49 |
HueAdjustmentAqua | 0 |
HueAdjustmentBlue | 0 |
HueAdjustmentGreen | 0 |
HueAdjustmentMagenta | 0 |
HueAdjustmentOrange | 0 |
HueAdjustmentPurple | 0 |
HueAdjustmentRed | 0 |
HueAdjustmentYellow | 0 |
HyperfocalDistance | 4.68 m |
ImageHeight | 3706 |
ImageNumber | 0 |
ImageSize | 5559x3706 |
ImageWidth | 5559 |
ISO | 160 |
Keywords | 2013, S/H, hamn¿y, juli, kort, lofoten |
Lens | EF24-105mm f/4L IS USM |
LensID (1) | 237 |
LensID | Canon EF 24-105mm f/4L IS USM |
LensInfo | 24-105mm f/? |
LightValue | 8.6 |
LuminanceAdjustmentAqua | 0 |
LuminanceAdjustmentBlue | 0 |
LuminanceAdjustmentGreen | 0 |
LuminanceAdjustmentMagenta | 0 |
LuminanceAdjustmentOrange | 0 |
LuminanceAdjustmentPurple | 0 |
LuminanceAdjustmentRed | 0 |
LuminanceAdjustmentYellow | 0 |
LuminanceSmoothing | 0 |
Make | Canon |
MaxApertureValue | 4.0 |
Megapixels | 20.6 |
MeteringMode | Multi-segment |
Model | Canon EOS 5D Mark II |
ModifyDate (1) | 2014:02:13 00:37:55+01:00 |
ModifyDate | 2014:02:13 00:37:55 |
PaintCorrectionActive | true |
PaintCorrectionAmount | 1.000000 |
PaintCorrectionBrightness | 0.000000 |
PaintCorrectionClarity | 0.000000 |
PaintCorrectionContrast | 0.000000 |
PaintCorrectionExposure (1) | -0.849624 |
PaintCorrectionExposure (3) | 0.218045 |
PaintCorrectionExposure (4) | 0.203007 |
PaintCorrectionExposure | 0.097744 |
PaintCorrectionHue | 240.000000 |
PaintCorrectionMaskCenterWeight | 0.249290 |
PaintCorrectionMaskFlow | 0.627820 |
PaintCorrectionMaskRadius (1) | 0.097403 |
PaintCorrectionMaskRadius (2) | 0.044312 |
PaintCorrectionMaskRadius (5) | 0.063556 |
PaintCorrectionMaskRadius | 0.040639 |
PaintCorrectionMaskValue | 0.593985 |
PaintCorrectionMaskWhat | Mask/Paint |
PaintCorrectionSaturation | 0.000000 |
PaintCorrectionSharpness | 0.000000 |
PaintCorrectionWhat | Correction |
ParametricDarks | -2 |
ParametricHighlights | +39 |
ParametricHighlightSplit | 75 |
ParametricLights | +18 |
ParametricMidtoneSplit | 50 |
ParametricShadows | 0 |
ParametricShadowSplit | 25 |
PostCropVignetteAmount | -24 |
PostCropVignetteFeather | 50 |
PostCropVignetteMidpoint | 50 |
PostCropVignetteRoundness | 0 |
ProfileDescription | Adobe RGB (1998) |
RedHue | 0 |
RedSaturation | 0 |
Saturation | -100 |
SaturationAdjustmentAqua | 0 |
SaturationAdjustmentBlue | 0 |
SaturationAdjustmentGreen | 0 |
SaturationAdjustmentMagenta | 0 |
SaturationAdjustmentOrange | 0 |
SaturationAdjustmentPurple | 0 |
SaturationAdjustmentRed | +27 |
SaturationAdjustmentYellow | 0 |
ScaleFactor35efl | 1.0 |
SceneCaptureType | Standard |
SerialNumber | 2531504906 |
Shadows | 12 |
ShadowTint | 0 |
SharpenDetail | 25 |
SharpenEdgeMasking | 0 |
SharpenRadius | +1.0 |
Sharpness | 73 |
ShutterSpeed | 1/40 |
ShutterSpeedValue | 1/40 |
SplitToningBalance | 0 |
SplitToningHighlightHue | 0 |
SplitToningHighlightSaturation | 0 |
SplitToningShadowHue | 0 |
SplitToningShadowSaturation | 0 |
Subject | 2013, S/H, hamnøy, juli, kort, lofoten |
SubjectDistance | 4.47 m |
Tint | -19 |
ToneCurve | 0, 0, 32, 22, 64, 56, 128, 128, 192, 196, 255, 255 |
ToneCurveName | Medium Contrast |
Version | 5.7 |
Vibrance | 0 |
VignetteAmount | 0 |
WhiteBalance (2) | Custom |
WhiteBalance | Auto |